BEGIN:VCALENDAR
VERSION:2.0
PRODID:-//Under Canvas® - ECPv6.15.18//NONSGML v1.0//EN
CALSCALE:GREGORIAN
METHOD:PUBLISH
X-WR-CALNAME:Under Canvas®
X-ORIGINAL-URL:https://www.undercanvas.com
X-WR-CALDESC:Events for Under Canvas®
REFRESH-INTERVAL;VALUE=DURATION:PT1H
X-Robots-Tag:noindex
X-PUBLISHED-TTL:PT1H
BEGIN:VTIMEZONE
TZID:America/New_York
BEGIN:DAYLIGHT
TZOFFSETFROM:-0500
TZOFFSETTO:-0400
TZNAME:EDT
DTSTART:20250309T070000
END:DAYLIGHT
BEGIN:STANDARD
TZOFFSETFROM:-0400
TZOFFSETTO:-0500
TZNAME:EST
DTSTART:20251102T060000
END:STANDARD
BEGIN:DAYLIGHT
TZOFFSETFROM:-0500
TZOFFSETTO:-0400
TZNAME:EDT
DTSTART:20260308T070000
END:DAYLIGHT
BEGIN:STANDARD
TZOFFSETFROM:-0400
TZOFFSETTO:-0500
TZNAME:EST
DTSTART:20261101T060000
END:STANDARD
BEGIN:DAYLIGHT
TZOFFSETFROM:-0500
TZOFFSETTO:-0400
TZNAME:EDT
DTSTART:20270314T070000
END:DAYLIGHT
BEGIN:STANDARD
TZOFFSETFROM:-0400
TZOFFSETTO:-0500
TZNAME:EST
DTSTART:20271107T060000
END:STANDARD
END:VTIMEZONE
BEGIN:VTIMEZONE
TZID:America/Denver
BEGIN:DAYLIGHT
TZOFFSETFROM:-0700
TZOFFSETTO:-0600
TZNAME:MDT
DTSTART:20250309T090000
END:DAYLIGHT
BEGIN:STANDARD
TZOFFSETFROM:-0600
TZOFFSETTO:-0700
TZNAME:MST
DTSTART:20251102T080000
END:STANDARD
BEGIN:DAYLIGHT
TZOFFSETFROM:-0700
TZOFFSETTO:-0600
TZNAME:MDT
DTSTART:20260308T090000
END:DAYLIGHT
BEGIN:STANDARD
TZOFFSETFROM:-0600
TZOFFSETTO:-0700
TZNAME:MST
DTSTART:20261101T080000
END:STANDARD
BEGIN:DAYLIGHT
TZOFFSETFROM:-0700
TZOFFSETTO:-0600
TZNAME:MDT
DTSTART:20270314T090000
END:DAYLIGHT
BEGIN:STANDARD
TZOFFSETFROM:-0600
TZOFFSETTO:-0700
TZNAME:MST
DTSTART:20271107T080000
END:STANDARD
END:VTIMEZONE
BEGIN:VTIMEZONE
TZID:America/Los_Angeles
BEGIN:DAYLIGHT
TZOFFSETFROM:-0800
TZOFFSETTO:-0700
TZNAME:PDT
DTSTART:20250309T100000
END:DAYLIGHT
BEGIN:STANDARD
TZOFFSETFROM:-0700
TZOFFSETTO:-0800
TZNAME:PST
DTSTART:20251102T090000
END:STANDARD
BEGIN:DAYLIGHT
TZOFFSETFROM:-0800
TZOFFSETTO:-0700
TZNAME:PDT
DTSTART:20260308T100000
END:DAYLIGHT
BEGIN:STANDARD
TZOFFSETFROM:-0700
TZOFFSETTO:-0800
TZNAME:PST
DTSTART:20261101T090000
END:STANDARD
BEGIN:DAYLIGHT
TZOFFSETFROM:-0800
TZOFFSETTO:-0700
TZNAME:PDT
DTSTART:20270314T100000
END:DAYLIGHT
BEGIN:STANDARD
TZOFFSETFROM:-0700
TZOFFSETTO:-0800
TZNAME:PST
DTSTART:20271107T090000
END:STANDARD
END:VTIMEZONE
BEGIN:VEVENT
DTSTART;TZID=America/New_York:20261001T160000
DTEND;TZID=America/New_York:20261001T170000
DTSTAMP:20260419T121201
CREATED:20260317T214448Z
LAST-MODIFIED:20260317T215132Z
UID:10009424-1790870400-1790874000@www.undercanvas.com
SUMMARY:Smoky Mountains: DIY Star Lanterns
DESCRIPTION:Create your own star lantern craft with a paper Bag\, hole puncher and LED tea light (or glow stick).
URL:https://www.undercanvas.com/event/smoky-mountains-diy-star-lanterns/2026-10-01/
ATTACH;FMTTYPE=image/jpeg:/wp-content/uploads/2026/03/andy-holmes-rCbdp8VCYhQ-unsplash.jpg
END:VEVENT
BEGIN:VEVENT
DTSTART;TZID=America/New_York:20261001T170000
DTEND;TZID=America/New_York:20261001T180000
DTSTAMP:20260419T121201
CREATED:20260317T213225Z
LAST-MODIFIED:20260317T215018Z
UID:10009360-1790874000-1790877600@www.undercanvas.com
SUMMARY:Smoky Mountains: Night Sky Trivia
DESCRIPTION:20 question celestial themed trivia. Quesitons range from astronomy\, to astronauts\, to lunar cycles. The winner receives a prize (tbd). Open to guests of all ages. This weekly event occurs each Thursday evening.
URL:https://www.undercanvas.com/event/smoky-mountains-night-sky-trivia/2026-10-01/
ATTACH;FMTTYPE=image/jpeg:/wp-content/uploads/2023/12/shutterstock_436818496.jpg
END:VEVENT
BEGIN:VEVENT
DTSTART;TZID=America/Denver:20261001T183000
DTEND;TZID=America/Denver:20261001T193000
DTSTAMP:20260419T121201
CREATED:20260226T001522Z
LAST-MODIFIED:20260226T003149Z
UID:10008791-1790879400-1790883000@www.undercanvas.com
SUMMARY:Zion: Galaxy Canvas Painting
DESCRIPTION:Join us for a guided canvas painting session of the night sky! A predetermined design will be provided and led by one of our own Guest Experience team members. You are more than welcome to paint your own idea as well! Canvas and paint supplies will be provided.
URL:https://www.undercanvas.com/event/zion-galaxy-canvas-painting/2026-10-01/
ATTACH;FMTTYPE=image/jpeg:/wp-content/uploads/2021/08/Yellowstone-Milkyway1-e1658503212761.jpg
END:VEVENT
BEGIN:VEVENT
DTSTART;TZID=America/New_York:20261001T190000
DTEND;TZID=America/New_York:20261001T200000
DTSTAMP:20260419T121201
CREATED:20260317T223452Z
LAST-MODIFIED:20260317T223452Z
UID:10009454-1790881200-1790884800@www.undercanvas.com
SUMMARY:Smoky Mountains: Campfire Americana Trivia
DESCRIPTION:Teams compete in trivia about: U.S. history\, national parks\, wildlife\, and famous explorers. The winning team will win a prize.
URL:https://www.undercanvas.com/event/smoky-mountains-campfire-americana-trivia/2026-10-01/
END:VEVENT
BEGIN:VEVENT
DTSTART;TZID=America/Los_Angeles:20261001T190000
DTEND;TZID=America/Los_Angeles:20261001T200000
DTSTAMP:20260419T121201
CREATED:20260323T214621Z
LAST-MODIFIED:20260323T214621Z
UID:10009741-1790881200-1790884800@www.undercanvas.com
SUMMARY:Yosemite: Constellation Lanterns
DESCRIPTION:Create a star-studded lantern with just a piece of paper\, a jar\, and and an LED candle.
URL:https://www.undercanvas.com/event/yosemite-constellation-lanterns/2026-10-01/
ATTACH;FMTTYPE=image/jpeg:/wp-content/uploads/2023/09/shutterstock_338008466-scaled.jpg
END:VEVENT
BEGIN:VEVENT
DTSTART;TZID=America/Denver:20261001T190000
DTEND;TZID=America/Denver:20261001T203000
DTSTAMP:20260419T121201
CREATED:20260305T182440Z
LAST-MODIFIED:20260305T182440Z
UID:10009138-1790881200-1790886600@www.undercanvas.com
SUMMARY:Moab: Milky Way Canvas Painting
DESCRIPTION:Get inspired by the stars above\, then let your creative juices flow! Paint under the stars and capture the beauty of the Milky Way\, visible most evenings from camp. By the end of the evening\, you’ll have a one-of-a-kind memento that you can take home with you to remember your trip for years to come.
URL:https://www.undercanvas.com/event/moab-milky-way-canvas-painting/2026-10-01/
ATTACH;FMTTYPE=image/jpeg:/wp-content/uploads/2023/12/shutterstock_436818496.jpg
END:VEVENT
BEGIN:VEVENT
DTSTART;TZID=America/Los_Angeles:20261002T183000
DTEND;TZID=America/Los_Angeles:20261002T193000
DTSTAMP:20260419T121201
CREATED:20260323T211609Z
LAST-MODIFIED:20260323T211609Z
UID:10009603-1790965800-1790969400@www.undercanvas.com
SUMMARY:Columbia River Gorge: Dark Sky Painting
DESCRIPTION:Join us by the fire pit as the sun sets and we paint the night sky together. Led by our Guest Experience Team\, guests will paint a silhouette of Mt. Hood surrounded by the night sky. Times may very depending upon season.
URL:https://www.undercanvas.com/event/columbia-river-gorge-dark-sky-painting/2026-10-02/
ATTACH;FMTTYPE=image/jpeg:/wp-content/uploads/2025/05/iStock-1268487061-scaled-e1750793410706.jpg
END:VEVENT
BEGIN:VEVENT
DTSTART;TZID=America/Denver:20261003T170000
DTEND;TZID=America/Denver:20261003T220000
DTSTAMP:20260419T121201
CREATED:20260226T002939Z
LAST-MODIFIED:20260226T002939Z
UID:10008861-1791046800-1791064800@www.undercanvas.com
SUMMARY:Zion: Cosmic Cocktails
DESCRIPTION:Sip on creative cocktails and mocktails inspired by the stars. Select from a variety of specialty drinks—such as Space Odyssey\, Meteor Mimosas\, and Shower or Stars—that incorporate edible glitter\, pop rocks\, and celestial-themed garnishes. Or choose non-alcoholic beverages such as Moon Milk\, Starburst Cider\, and sleep-focused herbal tea blends. These refreshments are a perfect way to toast the galaxies on a beautiful\, star-filled night.
URL:https://www.undercanvas.com/event/zion-cosmic-cocktails/2026-10-03/
ATTACH;FMTTYPE=image/jpeg:/wp-content/uploads/2021/08/161_TravisBurke-1-200x300-1.jpg
END:VEVENT
BEGIN:VEVENT
DTSTART;TZID=America/Los_Angeles:20261003T170000
DTEND;TZID=America/Los_Angeles:20261003T220000
DTSTAMP:20260419T121201
CREATED:20260323T211402Z
LAST-MODIFIED:20260323T211402Z
UID:10009576-1791046800-1791064800@www.undercanvas.com
SUMMARY:Columbia River Gorge: Cosmic Cocktails
DESCRIPTION:Sip on creative cocktails and mocktails inspired by the stars. Select from a variety of specialty drinks—such as the Space & Thyme Cocktail and the Dark & Stormy Cocktail\, alongside the non-alcoholic Cosmic Lemonade—that incorporate edible glitter\, pop rocks\, and celestial-themed garnishes.
URL:https://www.undercanvas.com/event/columbia-river-gorge-cosmic-cocktails/2026-10-03/
ATTACH;FMTTYPE=image/jpeg:/wp-content/uploads/2026/03/Lake-Powell_Cocktails-scaled.jpg
END:VEVENT
BEGIN:VEVENT
DTSTART;TZID=America/Denver:20261004T200000
DTEND;TZID=America/Denver:20261004T210000
DTSTAMP:20260419T121201
CREATED:20260226T001232Z
LAST-MODIFIED:20260226T003124Z
UID:10008756-1791144000-1791147600@www.undercanvas.com
SUMMARY:Zion: We Own the Night Tour
DESCRIPTION:Join us on our event pad for a night of detailed information\, constellation identification and star-gazing. Due to our dark-sky complient camp\, binoculars & telescopes are not needed to enjoy this event.
URL:https://www.undercanvas.com/event/zion-we-own-the-night-tour/2026-10-04/
ATTACH;FMTTYPE=image/jpeg:/wp-content/uploads/2021/07/Grand-Canyon-platform-night.jpeg
END:VEVENT
BEGIN:VEVENT
DTSTART;TZID=America/Denver:20261005T170000
DTEND;TZID=America/Denver:20261005T220000
DTSTAMP:20260419T121201
CREATED:20260323T220454Z
LAST-MODIFIED:20260323T220454Z
UID:10009822-1791219600-1791237600@www.undercanvas.com
SUMMARY:Grand Canyon: Cosmic Cocktails
DESCRIPTION:Space themed drink specials
URL:https://www.undercanvas.com/event/grand-canyon-cosmic-cocktails/2026-10-05/
ATTACH;FMTTYPE=image/jpeg:/wp-content/uploads/2026/03/Lake-Powell_Cocktails-scaled.jpg
END:VEVENT
BEGIN:VEVENT
DTSTART;TZID=America/Denver:20261005T180000
DTEND;TZID=America/Denver:20261005T190000
DTSTAMP:20260419T121201
CREATED:20260323T211838Z
LAST-MODIFIED:20260323T211838Z
UID:10009630-1791223200-1791226800@www.undercanvas.com
SUMMARY:Columbia River Gorge: Celestial Bracelet Making
DESCRIPTION:Pick out your favorite star and night sky charms and make a bracelet to commemorate your time spent under the stars.
URL:https://www.undercanvas.com/event/columbia-river-gorge-celestial-bracelet-making-3/2026-10-05/
ATTACH;FMTTYPE=image/jpeg:/wp-content/uploads/2023/09/shutterstock_338008466-scaled.jpg
END:VEVENT
BEGIN:VEVENT
DTSTART;TZID=America/Denver:20261005T190000
DTEND;TZID=America/Denver:20261005T203000
DTSTAMP:20260419T121201
CREATED:20260305T182818Z
LAST-MODIFIED:20260305T182818Z
UID:10009173-1791226800-1791232200@www.undercanvas.com
SUMMARY:Moab: Celestial Bracelet Making
DESCRIPTION:Create bracelets with celestial themed charms and beads.
URL:https://www.undercanvas.com/event/moab-celestial-bracelet-making/2026-10-05/
ATTACH;FMTTYPE=image/jpeg:/wp-content/uploads/2023/08/Yellowstone-Milkyway1-3-e1691760241395.jpg
END:VEVENT
BEGIN:VEVENT
DTSTART;TZID=America/Los_Angeles:20261006T080000
DTEND;TZID=America/Los_Angeles:20261006T170000
DTSTAMP:20260419T121201
CREATED:20260323T215020Z
LAST-MODIFIED:20260323T215020Z
UID:10009773-1791273600-1791306000@www.undercanvas.com
SUMMARY:Yosemite: Create Your Own Zodiac Constellation
DESCRIPTION:Design your own zodiac constellation on a small canvas using glow-in-the-dark star stickers and paint.
URL:https://www.undercanvas.com/event/yosemite-create-your-own-zodiac-constellation/2026-10-06/
ATTACH;FMTTYPE=image/jpeg:/wp-content/uploads/2026/03/andy-holmes-rCbdp8VCYhQ-unsplash.jpg
END:VEVENT
BEGIN:VEVENT
DTSTART;TZID=America/Denver:20261006T183000
DTEND;TZID=America/Denver:20261006T193000
DTSTAMP:20260419T121201
CREATED:20260226T000957Z
LAST-MODIFIED:20260226T003058Z
UID:10008722-1791311400-1791315000@www.undercanvas.com
SUMMARY:Zion: Galaxy Jewelry Making
DESCRIPTION:Join us under the stars to make a star themed bracelet or necklace. Thread\, beads and charms and hands-on help will be provided. Adults and Kids encouraged.
URL:https://www.undercanvas.com/event/galaxy-jewelry-making/2026-10-06/
ATTACH;FMTTYPE=image/jpeg:/wp-content/uploads/2024/02/shutterstock_686788690-scaled-e1708013210813.jpg
END:VEVENT
BEGIN:VEVENT
DTSTART;TZID=America/Denver:20261006T200000
DTEND;TZID=America/Denver:20261006T220000
DTSTAMP:20260419T121201
CREATED:20260323T220811Z
LAST-MODIFIED:20260323T220811Z
UID:10009849-1791316800-1791324000@www.undercanvas.com
SUMMARY:Grand Canyon: Night Sky Scavenger Hunt
DESCRIPTION:Night sky themed scavenger hunt
URL:https://www.undercanvas.com/event/grand-canyon-night-sky-scavenger-hunt/2026-10-06/
ATTACH;FMTTYPE=image/jpeg:/wp-content/uploads/2023/11/UCMilkyway-3.jpg
END:VEVENT
BEGIN:VEVENT
DTSTART;TZID=America/Denver:20261007T183000
DTEND;TZID=America/Denver:20261007T193000
DTSTAMP:20260419T121201
CREATED:20260226T002749Z
LAST-MODIFIED:20260226T003019Z
UID:10008827-1791397800-1791401400@www.undercanvas.com
SUMMARY:Zion: Galaxy Trivia
DESCRIPTION:Join us under the stars for a fun-filled game of Trivia. Particpate as an individual\, couple\, family or group. Questions will be night-sky themed\, including dark-sky\, stars and constellations among others.
URL:https://www.undercanvas.com/event/zion-galaxy-trivia/2026-10-07/
ATTACH;FMTTYPE=image/jpeg:/wp-content/uploads/2024/02/shutterstock_1080724175-scaled-e1706889224597.jpg
END:VEVENT
BEGIN:VEVENT
DTSTART;TZID=America/New_York:20261007T190000
DTEND;TZID=America/New_York:20261007T200000
DTSTAMP:20260419T121201
CREATED:20260317T214815Z
LAST-MODIFIED:20260317T225446Z
UID:10009545-1791399600-1791403200@www.undercanvas.com
SUMMARY:Smoky Mountains: Moon Pie or Hot Chocolate Galaxy Bar
DESCRIPTION:Alternate every other week with a self-serve bar for guests that is Night sky themed and a fun snack/activitiy. Moon pie bar consists of moon pies\, marshmallows\, chocolate drizzle\, bananas\, and graham crackers. \nThe Hot Chocolate Galaxy bar will have hot chocolate packets\, marshmallows\, whipped cream\, crushed oreos (meteor dust) sprinkles (stars) and caramel drizzle to choose from.
URL:https://www.undercanvas.com/event/smoky-mountains-moon-pie-or-hot-chocolate-galaxy-bar/2026-10-07/
ATTACH;FMTTYPE=image/jpeg:/wp-content/uploads/2024/02/shutterstock_686788690-scaled-e1708013210813.jpg
END:VEVENT
BEGIN:VEVENT
DTSTART;TZID=America/New_York:20261008T160000
DTEND;TZID=America/New_York:20261008T170000
DTSTAMP:20260419T121201
CREATED:20260317T214448Z
LAST-MODIFIED:20260317T215132Z
UID:10009425-1791475200-1791478800@www.undercanvas.com
SUMMARY:Smoky Mountains: DIY Star Lanterns
DESCRIPTION:Create your own star lantern craft with a paper Bag\, hole puncher and LED tea light (or glow stick).
URL:https://www.undercanvas.com/event/smoky-mountains-diy-star-lanterns/2026-10-08/
ATTACH;FMTTYPE=image/jpeg:/wp-content/uploads/2026/03/andy-holmes-rCbdp8VCYhQ-unsplash.jpg
END:VEVENT
BEGIN:VEVENT
DTSTART;TZID=America/New_York:20261008T170000
DTEND;TZID=America/New_York:20261008T180000
DTSTAMP:20260419T121201
CREATED:20260317T213225Z
LAST-MODIFIED:20260317T215018Z
UID:10009361-1791478800-1791482400@www.undercanvas.com
SUMMARY:Smoky Mountains: Night Sky Trivia
DESCRIPTION:20 question celestial themed trivia. Quesitons range from astronomy\, to astronauts\, to lunar cycles. The winner receives a prize (tbd). Open to guests of all ages. This weekly event occurs each Thursday evening.
URL:https://www.undercanvas.com/event/smoky-mountains-night-sky-trivia/2026-10-08/
ATTACH;FMTTYPE=image/jpeg:/wp-content/uploads/2023/12/shutterstock_436818496.jpg
END:VEVENT
BEGIN:VEVENT
DTSTART;TZID=America/Denver:20261008T183000
DTEND;TZID=America/Denver:20261008T193000
DTSTAMP:20260419T121201
CREATED:20260226T001522Z
LAST-MODIFIED:20260226T003149Z
UID:10008792-1791484200-1791487800@www.undercanvas.com
SUMMARY:Zion: Galaxy Canvas Painting
DESCRIPTION:Join us for a guided canvas painting session of the night sky! A predetermined design will be provided and led by one of our own Guest Experience team members. You are more than welcome to paint your own idea as well! Canvas and paint supplies will be provided.
URL:https://www.undercanvas.com/event/zion-galaxy-canvas-painting/2026-10-08/
ATTACH;FMTTYPE=image/jpeg:/wp-content/uploads/2021/08/Yellowstone-Milkyway1-e1658503212761.jpg
END:VEVENT
BEGIN:VEVENT
DTSTART;TZID=America/New_York:20261008T190000
DTEND;TZID=America/New_York:20261008T200000
DTSTAMP:20260419T121201
CREATED:20260317T223452Z
LAST-MODIFIED:20260317T223452Z
UID:10009455-1791486000-1791489600@www.undercanvas.com
SUMMARY:Smoky Mountains: Campfire Americana Trivia
DESCRIPTION:Teams compete in trivia about: U.S. history\, national parks\, wildlife\, and famous explorers. The winning team will win a prize.
URL:https://www.undercanvas.com/event/smoky-mountains-campfire-americana-trivia/2026-10-08/
END:VEVENT
BEGIN:VEVENT
DTSTART;TZID=America/Los_Angeles:20261008T190000
DTEND;TZID=America/Los_Angeles:20261008T200000
DTSTAMP:20260419T121201
CREATED:20260323T214621Z
LAST-MODIFIED:20260323T214621Z
UID:10009742-1791486000-1791489600@www.undercanvas.com
SUMMARY:Yosemite: Constellation Lanterns
DESCRIPTION:Create a star-studded lantern with just a piece of paper\, a jar\, and and an LED candle.
URL:https://www.undercanvas.com/event/yosemite-constellation-lanterns/2026-10-08/
ATTACH;FMTTYPE=image/jpeg:/wp-content/uploads/2023/09/shutterstock_338008466-scaled.jpg
END:VEVENT
BEGIN:VEVENT
DTSTART;TZID=America/Denver:20261008T190000
DTEND;TZID=America/Denver:20261008T203000
DTSTAMP:20260419T121201
CREATED:20260305T182440Z
LAST-MODIFIED:20260305T182440Z
UID:10009139-1791486000-1791491400@www.undercanvas.com
SUMMARY:Moab: Milky Way Canvas Painting
DESCRIPTION:Get inspired by the stars above\, then let your creative juices flow! Paint under the stars and capture the beauty of the Milky Way\, visible most evenings from camp. By the end of the evening\, you’ll have a one-of-a-kind memento that you can take home with you to remember your trip for years to come.
URL:https://www.undercanvas.com/event/moab-milky-way-canvas-painting/2026-10-08/
ATTACH;FMTTYPE=image/jpeg:/wp-content/uploads/2023/12/shutterstock_436818496.jpg
END:VEVENT
BEGIN:VEVENT
DTSTART;TZID=America/Los_Angeles:20261009T183000
DTEND;TZID=America/Los_Angeles:20261009T193000
DTSTAMP:20260419T121201
CREATED:20260323T211609Z
LAST-MODIFIED:20260323T211609Z
UID:10009604-1791570600-1791574200@www.undercanvas.com
SUMMARY:Columbia River Gorge: Dark Sky Painting
DESCRIPTION:Join us by the fire pit as the sun sets and we paint the night sky together. Led by our Guest Experience Team\, guests will paint a silhouette of Mt. Hood surrounded by the night sky. Times may very depending upon season.
URL:https://www.undercanvas.com/event/columbia-river-gorge-dark-sky-painting/2026-10-09/
ATTACH;FMTTYPE=image/jpeg:/wp-content/uploads/2025/05/iStock-1268487061-scaled-e1750793410706.jpg
END:VEVENT
BEGIN:VEVENT
DTSTART;TZID=America/Denver:20261010T170000
DTEND;TZID=America/Denver:20261010T220000
DTSTAMP:20260419T121201
CREATED:20260226T002939Z
LAST-MODIFIED:20260226T002939Z
UID:10008862-1791651600-1791669600@www.undercanvas.com
SUMMARY:Zion: Cosmic Cocktails
DESCRIPTION:Sip on creative cocktails and mocktails inspired by the stars. Select from a variety of specialty drinks—such as Space Odyssey\, Meteor Mimosas\, and Shower or Stars—that incorporate edible glitter\, pop rocks\, and celestial-themed garnishes. Or choose non-alcoholic beverages such as Moon Milk\, Starburst Cider\, and sleep-focused herbal tea blends. These refreshments are a perfect way to toast the galaxies on a beautiful\, star-filled night.
URL:https://www.undercanvas.com/event/zion-cosmic-cocktails/2026-10-10/
ATTACH;FMTTYPE=image/jpeg:/wp-content/uploads/2021/08/161_TravisBurke-1-200x300-1.jpg
END:VEVENT
BEGIN:VEVENT
DTSTART;TZID=America/Los_Angeles:20261010T170000
DTEND;TZID=America/Los_Angeles:20261010T220000
DTSTAMP:20260419T121201
CREATED:20260323T211402Z
LAST-MODIFIED:20260323T211402Z
UID:10009577-1791651600-1791669600@www.undercanvas.com
SUMMARY:Columbia River Gorge: Cosmic Cocktails
DESCRIPTION:Sip on creative cocktails and mocktails inspired by the stars. Select from a variety of specialty drinks—such as the Space & Thyme Cocktail and the Dark & Stormy Cocktail\, alongside the non-alcoholic Cosmic Lemonade—that incorporate edible glitter\, pop rocks\, and celestial-themed garnishes.
URL:https://www.undercanvas.com/event/columbia-river-gorge-cosmic-cocktails/2026-10-10/
ATTACH;FMTTYPE=image/jpeg:/wp-content/uploads/2026/03/Lake-Powell_Cocktails-scaled.jpg
END:VEVENT
BEGIN:VEVENT
DTSTART;TZID=America/Denver:20261011T200000
DTEND;TZID=America/Denver:20261011T210000
DTSTAMP:20260419T121201
CREATED:20260226T001232Z
LAST-MODIFIED:20260226T003124Z
UID:10008757-1791748800-1791752400@www.undercanvas.com
SUMMARY:Zion: We Own the Night Tour
DESCRIPTION:Join us on our event pad for a night of detailed information\, constellation identification and star-gazing. Due to our dark-sky complient camp\, binoculars & telescopes are not needed to enjoy this event.
URL:https://www.undercanvas.com/event/zion-we-own-the-night-tour/2026-10-11/
ATTACH;FMTTYPE=image/jpeg:/wp-content/uploads/2021/07/Grand-Canyon-platform-night.jpeg
END:VEVENT
BEGIN:VEVENT
DTSTART;TZID=America/Denver:20261012T170000
DTEND;TZID=America/Denver:20261012T220000
DTSTAMP:20260419T121201
CREATED:20260323T220454Z
LAST-MODIFIED:20260323T220454Z
UID:10009823-1791824400-1791842400@www.undercanvas.com
SUMMARY:Grand Canyon: Cosmic Cocktails
DESCRIPTION:Space themed drink specials
URL:https://www.undercanvas.com/event/grand-canyon-cosmic-cocktails/2026-10-12/
ATTACH;FMTTYPE=image/jpeg:/wp-content/uploads/2026/03/Lake-Powell_Cocktails-scaled.jpg
END:VEVENT
BEGIN:VEVENT
DTSTART;TZID=America/Denver:20261012T180000
DTEND;TZID=America/Denver:20261012T190000
DTSTAMP:20260419T121201
CREATED:20260323T211838Z
LAST-MODIFIED:20260323T211838Z
UID:10009631-1791828000-1791831600@www.undercanvas.com
SUMMARY:Columbia River Gorge: Celestial Bracelet Making
DESCRIPTION:Pick out your favorite star and night sky charms and make a bracelet to commemorate your time spent under the stars.
URL:https://www.undercanvas.com/event/columbia-river-gorge-celestial-bracelet-making-3/2026-10-12/
ATTACH;FMTTYPE=image/jpeg:/wp-content/uploads/2023/09/shutterstock_338008466-scaled.jpg
END:VEVENT
END:VCALENDAR