BEGIN:VCALENDAR
VERSION:2.0
PRODID:-//Under Canvas® - ECPv6.15.18//NONSGML v1.0//EN
CALSCALE:GREGORIAN
METHOD:PUBLISH
X-WR-CALNAME:Under Canvas®
X-ORIGINAL-URL:https://www.undercanvas.com
X-WR-CALDESC:Events for Under Canvas®
REFRESH-INTERVAL;VALUE=DURATION:PT1H
X-Robots-Tag:noindex
X-PUBLISHED-TTL:PT1H
BEGIN:VTIMEZONE
TZID:America/Denver
BEGIN:DAYLIGHT
TZOFFSETFROM:-0700
TZOFFSETTO:-0600
TZNAME:MDT
DTSTART:20250309T090000
END:DAYLIGHT
BEGIN:STANDARD
TZOFFSETFROM:-0600
TZOFFSETTO:-0700
TZNAME:MST
DTSTART:20251102T080000
END:STANDARD
BEGIN:DAYLIGHT
TZOFFSETFROM:-0700
TZOFFSETTO:-0600
TZNAME:MDT
DTSTART:20260308T090000
END:DAYLIGHT
BEGIN:STANDARD
TZOFFSETFROM:-0600
TZOFFSETTO:-0700
TZNAME:MST
DTSTART:20261101T080000
END:STANDARD
BEGIN:DAYLIGHT
TZOFFSETFROM:-0700
TZOFFSETTO:-0600
TZNAME:MDT
DTSTART:20270314T090000
END:DAYLIGHT
BEGIN:STANDARD
TZOFFSETFROM:-0600
TZOFFSETTO:-0700
TZNAME:MST
DTSTART:20271107T080000
END:STANDARD
END:VTIMEZONE
BEGIN:VTIMEZONE
TZID:America/Los_Angeles
BEGIN:DAYLIGHT
TZOFFSETFROM:-0800
TZOFFSETTO:-0700
TZNAME:PDT
DTSTART:20250309T100000
END:DAYLIGHT
BEGIN:STANDARD
TZOFFSETFROM:-0700
TZOFFSETTO:-0800
TZNAME:PST
DTSTART:20251102T090000
END:STANDARD
BEGIN:DAYLIGHT
TZOFFSETFROM:-0800
TZOFFSETTO:-0700
TZNAME:PDT
DTSTART:20260308T100000
END:DAYLIGHT
BEGIN:STANDARD
TZOFFSETFROM:-0700
TZOFFSETTO:-0800
TZNAME:PST
DTSTART:20261101T090000
END:STANDARD
BEGIN:DAYLIGHT
TZOFFSETFROM:-0800
TZOFFSETTO:-0700
TZNAME:PDT
DTSTART:20270314T100000
END:DAYLIGHT
BEGIN:STANDARD
TZOFFSETFROM:-0700
TZOFFSETTO:-0800
TZNAME:PST
DTSTART:20271107T090000
END:STANDARD
END:VTIMEZONE
BEGIN:VTIMEZONE
TZID:America/New_York
BEGIN:DAYLIGHT
TZOFFSETFROM:-0500
TZOFFSETTO:-0400
TZNAME:EDT
DTSTART:20250309T070000
END:DAYLIGHT
BEGIN:STANDARD
TZOFFSETFROM:-0400
TZOFFSETTO:-0500
TZNAME:EST
DTSTART:20251102T060000
END:STANDARD
BEGIN:DAYLIGHT
TZOFFSETFROM:-0500
TZOFFSETTO:-0400
TZNAME:EDT
DTSTART:20260308T070000
END:DAYLIGHT
BEGIN:STANDARD
TZOFFSETFROM:-0400
TZOFFSETTO:-0500
TZNAME:EST
DTSTART:20261101T060000
END:STANDARD
BEGIN:DAYLIGHT
TZOFFSETFROM:-0500
TZOFFSETTO:-0400
TZNAME:EDT
DTSTART:20270314T070000
END:DAYLIGHT
BEGIN:STANDARD
TZOFFSETFROM:-0400
TZOFFSETTO:-0500
TZNAME:EST
DTSTART:20271107T060000
END:STANDARD
END:VTIMEZONE
BEGIN:VEVENT
DTSTART;TZID=America/Denver:20261101T200000
DTEND;TZID=America/Denver:20261101T210000
DTSTAMP:20260419T165639
CREATED:20260226T001232Z
LAST-MODIFIED:20260226T003124Z
UID:10008760-1793563200-1793566800@www.undercanvas.com
SUMMARY:Zion: We Own the Night Tour
DESCRIPTION:Join us on our event pad for a night of detailed information\, constellation identification and star-gazing. Due to our dark-sky complient camp\, binoculars & telescopes are not needed to enjoy this event.
URL:https://www.undercanvas.com/event/zion-we-own-the-night-tour/2026-11-01/
ATTACH;FMTTYPE=image/jpeg:/wp-content/uploads/2021/07/Grand-Canyon-platform-night.jpeg
END:VEVENT
BEGIN:VEVENT
DTSTART;TZID=America/Los_Angeles:20261103T080000
DTEND;TZID=America/Los_Angeles:20261103T170000
DTSTAMP:20260419T165639
CREATED:20260323T215020Z
LAST-MODIFIED:20260323T215020Z
UID:10009777-1793692800-1793725200@www.undercanvas.com
SUMMARY:Yosemite: Create Your Own Zodiac Constellation
DESCRIPTION:Design your own zodiac constellation on a small canvas using glow-in-the-dark star stickers and paint.
URL:https://www.undercanvas.com/event/yosemite-create-your-own-zodiac-constellation/2026-11-03/
ATTACH;FMTTYPE=image/jpeg:/wp-content/uploads/2026/03/andy-holmes-rCbdp8VCYhQ-unsplash.jpg
END:VEVENT
BEGIN:VEVENT
DTSTART;TZID=America/Denver:20261103T183000
DTEND;TZID=America/Denver:20261103T193000
DTSTAMP:20260419T165639
CREATED:20260226T000957Z
LAST-MODIFIED:20260226T003058Z
UID:10008726-1793730600-1793734200@www.undercanvas.com
SUMMARY:Zion: Galaxy Jewelry Making
DESCRIPTION:Join us under the stars to make a star themed bracelet or necklace. Thread\, beads and charms and hands-on help will be provided. Adults and Kids encouraged.
URL:https://www.undercanvas.com/event/galaxy-jewelry-making/2026-11-03/
ATTACH;FMTTYPE=image/jpeg:/wp-content/uploads/2024/02/shutterstock_686788690-scaled-e1708013210813.jpg
END:VEVENT
BEGIN:VEVENT
DTSTART;TZID=America/Denver:20261104T183000
DTEND;TZID=America/Denver:20261104T193000
DTSTAMP:20260419T165639
CREATED:20260226T002749Z
LAST-MODIFIED:20260226T003019Z
UID:10008831-1793817000-1793820600@www.undercanvas.com
SUMMARY:Zion: Galaxy Trivia
DESCRIPTION:Join us under the stars for a fun-filled game of Trivia. Particpate as an individual\, couple\, family or group. Questions will be night-sky themed\, including dark-sky\, stars and constellations among others.
URL:https://www.undercanvas.com/event/zion-galaxy-trivia/2026-11-04/
ATTACH;FMTTYPE=image/jpeg:/wp-content/uploads/2024/02/shutterstock_1080724175-scaled-e1706889224597.jpg
END:VEVENT
BEGIN:VEVENT
DTSTART;TZID=America/New_York:20261104T190000
DTEND;TZID=America/New_York:20261104T200000
DTSTAMP:20260419T165639
CREATED:20260317T214815Z
LAST-MODIFIED:20260317T225446Z
UID:10009549-1793818800-1793822400@www.undercanvas.com
SUMMARY:Smoky Mountains: Moon Pie or Hot Chocolate Galaxy Bar
DESCRIPTION:Alternate every other week with a self-serve bar for guests that is Night sky themed and a fun snack/activitiy. Moon pie bar consists of moon pies\, marshmallows\, chocolate drizzle\, bananas\, and graham crackers. \nThe Hot Chocolate Galaxy bar will have hot chocolate packets\, marshmallows\, whipped cream\, crushed oreos (meteor dust) sprinkles (stars) and caramel drizzle to choose from.
URL:https://www.undercanvas.com/event/smoky-mountains-moon-pie-or-hot-chocolate-galaxy-bar/2026-11-04/
ATTACH;FMTTYPE=image/jpeg:/wp-content/uploads/2024/02/shutterstock_686788690-scaled-e1708013210813.jpg
END:VEVENT
BEGIN:VEVENT
DTSTART;TZID=America/New_York:20261105T160000
DTEND;TZID=America/New_York:20261105T170000
DTSTAMP:20260419T165639
CREATED:20260317T214448Z
LAST-MODIFIED:20260317T215132Z
UID:10009429-1793894400-1793898000@www.undercanvas.com
SUMMARY:Smoky Mountains: DIY Star Lanterns
DESCRIPTION:Create your own star lantern craft with a paper Bag\, hole puncher and LED tea light (or glow stick).
URL:https://www.undercanvas.com/event/smoky-mountains-diy-star-lanterns/2026-11-05/
ATTACH;FMTTYPE=image/jpeg:/wp-content/uploads/2026/03/andy-holmes-rCbdp8VCYhQ-unsplash.jpg
END:VEVENT
BEGIN:VEVENT
DTSTART;TZID=America/New_York:20261105T170000
DTEND;TZID=America/New_York:20261105T180000
DTSTAMP:20260419T165639
CREATED:20260317T213225Z
LAST-MODIFIED:20260317T215018Z
UID:10009365-1793898000-1793901600@www.undercanvas.com
SUMMARY:Smoky Mountains: Night Sky Trivia
DESCRIPTION:20 question celestial themed trivia. Quesitons range from astronomy\, to astronauts\, to lunar cycles. The winner receives a prize (tbd). Open to guests of all ages. This weekly event occurs each Thursday evening.
URL:https://www.undercanvas.com/event/smoky-mountains-night-sky-trivia/2026-11-05/
ATTACH;FMTTYPE=image/jpeg:/wp-content/uploads/2023/12/shutterstock_436818496.jpg
END:VEVENT
BEGIN:VEVENT
DTSTART;TZID=America/Denver:20261105T183000
DTEND;TZID=America/Denver:20261105T193000
DTSTAMP:20260419T165639
CREATED:20260226T001522Z
LAST-MODIFIED:20260226T003149Z
UID:10008796-1793903400-1793907000@www.undercanvas.com
SUMMARY:Zion: Galaxy Canvas Painting
DESCRIPTION:Join us for a guided canvas painting session of the night sky! A predetermined design will be provided and led by one of our own Guest Experience team members. You are more than welcome to paint your own idea as well! Canvas and paint supplies will be provided.
URL:https://www.undercanvas.com/event/zion-galaxy-canvas-painting/2026-11-05/
ATTACH;FMTTYPE=image/jpeg:/wp-content/uploads/2021/08/Yellowstone-Milkyway1-e1658503212761.jpg
END:VEVENT
BEGIN:VEVENT
DTSTART;TZID=America/New_York:20261105T190000
DTEND;TZID=America/New_York:20261105T200000
DTSTAMP:20260419T165639
CREATED:20260317T223452Z
LAST-MODIFIED:20260317T223452Z
UID:10009459-1793905200-1793908800@www.undercanvas.com
SUMMARY:Smoky Mountains: Campfire Americana Trivia
DESCRIPTION:Teams compete in trivia about: U.S. history\, national parks\, wildlife\, and famous explorers. The winning team will win a prize.
URL:https://www.undercanvas.com/event/smoky-mountains-campfire-americana-trivia/2026-11-05/
END:VEVENT
BEGIN:VEVENT
DTSTART;TZID=America/Los_Angeles:20261105T190000
DTEND;TZID=America/Los_Angeles:20261105T200000
DTSTAMP:20260419T165639
CREATED:20260323T214621Z
LAST-MODIFIED:20260323T214621Z
UID:10009746-1793905200-1793908800@www.undercanvas.com
SUMMARY:Yosemite: Constellation Lanterns
DESCRIPTION:Create a star-studded lantern with just a piece of paper\, a jar\, and and an LED candle.
URL:https://www.undercanvas.com/event/yosemite-constellation-lanterns/2026-11-05/
ATTACH;FMTTYPE=image/jpeg:/wp-content/uploads/2023/09/shutterstock_338008466-scaled.jpg
END:VEVENT
BEGIN:VEVENT
DTSTART;TZID=America/Denver:20261107T170000
DTEND;TZID=America/Denver:20261107T220000
DTSTAMP:20260419T165639
CREATED:20260226T002939Z
LAST-MODIFIED:20260226T002939Z
UID:10008866-1794070800-1794088800@www.undercanvas.com
SUMMARY:Zion: Cosmic Cocktails
DESCRIPTION:Sip on creative cocktails and mocktails inspired by the stars. Select from a variety of specialty drinks—such as Space Odyssey\, Meteor Mimosas\, and Shower or Stars—that incorporate edible glitter\, pop rocks\, and celestial-themed garnishes. Or choose non-alcoholic beverages such as Moon Milk\, Starburst Cider\, and sleep-focused herbal tea blends. These refreshments are a perfect way to toast the galaxies on a beautiful\, star-filled night.
URL:https://www.undercanvas.com/event/zion-cosmic-cocktails/2026-11-07/
ATTACH;FMTTYPE=image/jpeg:/wp-content/uploads/2021/08/161_TravisBurke-1-200x300-1.jpg
END:VEVENT
BEGIN:VEVENT
DTSTART;TZID=America/Denver:20261108T200000
DTEND;TZID=America/Denver:20261108T210000
DTSTAMP:20260419T165639
CREATED:20260226T001232Z
LAST-MODIFIED:20260226T003124Z
UID:10008761-1794168000-1794171600@www.undercanvas.com
SUMMARY:Zion: We Own the Night Tour
DESCRIPTION:Join us on our event pad for a night of detailed information\, constellation identification and star-gazing. Due to our dark-sky complient camp\, binoculars & telescopes are not needed to enjoy this event.
URL:https://www.undercanvas.com/event/zion-we-own-the-night-tour/2026-11-08/
ATTACH;FMTTYPE=image/jpeg:/wp-content/uploads/2021/07/Grand-Canyon-platform-night.jpeg
END:VEVENT
BEGIN:VEVENT
DTSTART;TZID=America/Los_Angeles:20261110T080000
DTEND;TZID=America/Los_Angeles:20261110T170000
DTSTAMP:20260419T165639
CREATED:20260323T215020Z
LAST-MODIFIED:20260323T215020Z
UID:10009778-1794297600-1794330000@www.undercanvas.com
SUMMARY:Yosemite: Create Your Own Zodiac Constellation
DESCRIPTION:Design your own zodiac constellation on a small canvas using glow-in-the-dark star stickers and paint.
URL:https://www.undercanvas.com/event/yosemite-create-your-own-zodiac-constellation/2026-11-10/
ATTACH;FMTTYPE=image/jpeg:/wp-content/uploads/2026/03/andy-holmes-rCbdp8VCYhQ-unsplash.jpg
END:VEVENT
BEGIN:VEVENT
DTSTART;TZID=America/New_York:20261111T190000
DTEND;TZID=America/New_York:20261111T200000
DTSTAMP:20260419T165639
CREATED:20260317T214815Z
LAST-MODIFIED:20260317T225446Z
UID:10009550-1794423600-1794427200@www.undercanvas.com
SUMMARY:Smoky Mountains: Moon Pie or Hot Chocolate Galaxy Bar
DESCRIPTION:Alternate every other week with a self-serve bar for guests that is Night sky themed and a fun snack/activitiy. Moon pie bar consists of moon pies\, marshmallows\, chocolate drizzle\, bananas\, and graham crackers. \nThe Hot Chocolate Galaxy bar will have hot chocolate packets\, marshmallows\, whipped cream\, crushed oreos (meteor dust) sprinkles (stars) and caramel drizzle to choose from.
URL:https://www.undercanvas.com/event/smoky-mountains-moon-pie-or-hot-chocolate-galaxy-bar/2026-11-11/
ATTACH;FMTTYPE=image/jpeg:/wp-content/uploads/2024/02/shutterstock_686788690-scaled-e1708013210813.jpg
END:VEVENT
BEGIN:VEVENT
DTSTART;TZID=America/New_York:20261112T160000
DTEND;TZID=America/New_York:20261112T170000
DTSTAMP:20260419T165639
CREATED:20260317T214448Z
LAST-MODIFIED:20260317T215132Z
UID:10009430-1794499200-1794502800@www.undercanvas.com
SUMMARY:Smoky Mountains: DIY Star Lanterns
DESCRIPTION:Create your own star lantern craft with a paper Bag\, hole puncher and LED tea light (or glow stick).
URL:https://www.undercanvas.com/event/smoky-mountains-diy-star-lanterns/2026-11-12/
ATTACH;FMTTYPE=image/jpeg:/wp-content/uploads/2026/03/andy-holmes-rCbdp8VCYhQ-unsplash.jpg
END:VEVENT
BEGIN:VEVENT
DTSTART;TZID=America/New_York:20261112T170000
DTEND;TZID=America/New_York:20261112T180000
DTSTAMP:20260419T165639
CREATED:20260317T213225Z
LAST-MODIFIED:20260317T215018Z
UID:10009366-1794502800-1794506400@www.undercanvas.com
SUMMARY:Smoky Mountains: Night Sky Trivia
DESCRIPTION:20 question celestial themed trivia. Quesitons range from astronomy\, to astronauts\, to lunar cycles. The winner receives a prize (tbd). Open to guests of all ages. This weekly event occurs each Thursday evening.
URL:https://www.undercanvas.com/event/smoky-mountains-night-sky-trivia/2026-11-12/
ATTACH;FMTTYPE=image/jpeg:/wp-content/uploads/2023/12/shutterstock_436818496.jpg
END:VEVENT
BEGIN:VEVENT
DTSTART;TZID=America/New_York:20261112T190000
DTEND;TZID=America/New_York:20261112T200000
DTSTAMP:20260419T165639
CREATED:20260317T223452Z
LAST-MODIFIED:20260317T223452Z
UID:10009460-1794510000-1794513600@www.undercanvas.com
SUMMARY:Smoky Mountains: Campfire Americana Trivia
DESCRIPTION:Teams compete in trivia about: U.S. history\, national parks\, wildlife\, and famous explorers. The winning team will win a prize.
URL:https://www.undercanvas.com/event/smoky-mountains-campfire-americana-trivia/2026-11-12/
END:VEVENT
BEGIN:VEVENT
DTSTART;TZID=America/Los_Angeles:20261112T190000
DTEND;TZID=America/Los_Angeles:20261112T200000
DTSTAMP:20260419T165639
CREATED:20260323T214621Z
LAST-MODIFIED:20260323T214621Z
UID:10009747-1794510000-1794513600@www.undercanvas.com
SUMMARY:Yosemite: Constellation Lanterns
DESCRIPTION:Create a star-studded lantern with just a piece of paper\, a jar\, and and an LED candle.
URL:https://www.undercanvas.com/event/yosemite-constellation-lanterns/2026-11-12/
ATTACH;FMTTYPE=image/jpeg:/wp-content/uploads/2023/09/shutterstock_338008466-scaled.jpg
END:VEVENT
BEGIN:VEVENT
DTSTART;TZID=America/Los_Angeles:20261117T080000
DTEND;TZID=America/Los_Angeles:20261117T170000
DTSTAMP:20260419T165639
CREATED:20260323T215020Z
LAST-MODIFIED:20260323T215020Z
UID:10009779-1794902400-1794934800@www.undercanvas.com
SUMMARY:Yosemite: Create Your Own Zodiac Constellation
DESCRIPTION:Design your own zodiac constellation on a small canvas using glow-in-the-dark star stickers and paint.
URL:https://www.undercanvas.com/event/yosemite-create-your-own-zodiac-constellation/2026-11-17/
ATTACH;FMTTYPE=image/jpeg:/wp-content/uploads/2026/03/andy-holmes-rCbdp8VCYhQ-unsplash.jpg
END:VEVENT
BEGIN:VEVENT
DTSTART;TZID=America/New_York:20261118T190000
DTEND;TZID=America/New_York:20261118T200000
DTSTAMP:20260419T165639
CREATED:20260317T214815Z
LAST-MODIFIED:20260317T225446Z
UID:10009551-1795028400-1795032000@www.undercanvas.com
SUMMARY:Smoky Mountains: Moon Pie or Hot Chocolate Galaxy Bar
DESCRIPTION:Alternate every other week with a self-serve bar for guests that is Night sky themed and a fun snack/activitiy. Moon pie bar consists of moon pies\, marshmallows\, chocolate drizzle\, bananas\, and graham crackers. \nThe Hot Chocolate Galaxy bar will have hot chocolate packets\, marshmallows\, whipped cream\, crushed oreos (meteor dust) sprinkles (stars) and caramel drizzle to choose from.
URL:https://www.undercanvas.com/event/smoky-mountains-moon-pie-or-hot-chocolate-galaxy-bar/2026-11-18/
ATTACH;FMTTYPE=image/jpeg:/wp-content/uploads/2024/02/shutterstock_686788690-scaled-e1708013210813.jpg
END:VEVENT
BEGIN:VEVENT
DTSTART;TZID=America/New_York:20261119T160000
DTEND;TZID=America/New_York:20261119T170000
DTSTAMP:20260419T165639
CREATED:20260317T214448Z
LAST-MODIFIED:20260317T215132Z
UID:10009431-1795104000-1795107600@www.undercanvas.com
SUMMARY:Smoky Mountains: DIY Star Lanterns
DESCRIPTION:Create your own star lantern craft with a paper Bag\, hole puncher and LED tea light (or glow stick).
URL:https://www.undercanvas.com/event/smoky-mountains-diy-star-lanterns/2026-11-19/
ATTACH;FMTTYPE=image/jpeg:/wp-content/uploads/2026/03/andy-holmes-rCbdp8VCYhQ-unsplash.jpg
END:VEVENT
BEGIN:VEVENT
DTSTART;TZID=America/New_York:20261119T170000
DTEND;TZID=America/New_York:20261119T180000
DTSTAMP:20260419T165639
CREATED:20260317T213225Z
LAST-MODIFIED:20260317T215018Z
UID:10009367-1795107600-1795111200@www.undercanvas.com
SUMMARY:Smoky Mountains: Night Sky Trivia
DESCRIPTION:20 question celestial themed trivia. Quesitons range from astronomy\, to astronauts\, to lunar cycles. The winner receives a prize (tbd). Open to guests of all ages. This weekly event occurs each Thursday evening.
URL:https://www.undercanvas.com/event/smoky-mountains-night-sky-trivia/2026-11-19/
ATTACH;FMTTYPE=image/jpeg:/wp-content/uploads/2023/12/shutterstock_436818496.jpg
END:VEVENT
BEGIN:VEVENT
DTSTART;TZID=America/New_York:20261119T190000
DTEND;TZID=America/New_York:20261119T200000
DTSTAMP:20260419T165639
CREATED:20260317T223452Z
LAST-MODIFIED:20260317T223452Z
UID:10009461-1795114800-1795118400@www.undercanvas.com
SUMMARY:Smoky Mountains: Campfire Americana Trivia
DESCRIPTION:Teams compete in trivia about: U.S. history\, national parks\, wildlife\, and famous explorers. The winning team will win a prize.
URL:https://www.undercanvas.com/event/smoky-mountains-campfire-americana-trivia/2026-11-19/
END:VEVENT
BEGIN:VEVENT
DTSTART;TZID=America/Los_Angeles:20261119T190000
DTEND;TZID=America/Los_Angeles:20261119T200000
DTSTAMP:20260419T165639
CREATED:20260323T214621Z
LAST-MODIFIED:20260323T214621Z
UID:10009748-1795114800-1795118400@www.undercanvas.com
SUMMARY:Yosemite: Constellation Lanterns
DESCRIPTION:Create a star-studded lantern with just a piece of paper\, a jar\, and and an LED candle.
URL:https://www.undercanvas.com/event/yosemite-constellation-lanterns/2026-11-19/
ATTACH;FMTTYPE=image/jpeg:/wp-content/uploads/2023/09/shutterstock_338008466-scaled.jpg
END:VEVENT
BEGIN:VEVENT
DTSTART;TZID=America/New_York:20261125T190000
DTEND;TZID=America/New_York:20261125T200000
DTSTAMP:20260419T165639
CREATED:20260317T214815Z
LAST-MODIFIED:20260317T225446Z
UID:10009552-1795633200-1795636800@www.undercanvas.com
SUMMARY:Smoky Mountains: Moon Pie or Hot Chocolate Galaxy Bar
DESCRIPTION:Alternate every other week with a self-serve bar for guests that is Night sky themed and a fun snack/activitiy. Moon pie bar consists of moon pies\, marshmallows\, chocolate drizzle\, bananas\, and graham crackers. \nThe Hot Chocolate Galaxy bar will have hot chocolate packets\, marshmallows\, whipped cream\, crushed oreos (meteor dust) sprinkles (stars) and caramel drizzle to choose from.
URL:https://www.undercanvas.com/event/smoky-mountains-moon-pie-or-hot-chocolate-galaxy-bar/2026-11-25/
ATTACH;FMTTYPE=image/jpeg:/wp-content/uploads/2024/02/shutterstock_686788690-scaled-e1708013210813.jpg
END:VEVENT
BEGIN:VEVENT
DTSTART;TZID=America/New_York:20261126T160000
DTEND;TZID=America/New_York:20261126T170000
DTSTAMP:20260419T165639
CREATED:20260317T214448Z
LAST-MODIFIED:20260317T215132Z
UID:10009432-1795708800-1795712400@www.undercanvas.com
SUMMARY:Smoky Mountains: DIY Star Lanterns
DESCRIPTION:Create your own star lantern craft with a paper Bag\, hole puncher and LED tea light (or glow stick).
URL:https://www.undercanvas.com/event/smoky-mountains-diy-star-lanterns/2026-11-26/
ATTACH;FMTTYPE=image/jpeg:/wp-content/uploads/2026/03/andy-holmes-rCbdp8VCYhQ-unsplash.jpg
END:VEVENT
BEGIN:VEVENT
DTSTART;TZID=America/New_York:20261126T190000
DTEND;TZID=America/New_York:20261126T200000
DTSTAMP:20260419T165639
CREATED:20260317T223452Z
LAST-MODIFIED:20260317T223452Z
UID:10009462-1795719600-1795723200@www.undercanvas.com
SUMMARY:Smoky Mountains: Campfire Americana Trivia
DESCRIPTION:Teams compete in trivia about: U.S. history\, national parks\, wildlife\, and famous explorers. The winning team will win a prize.
URL:https://www.undercanvas.com/event/smoky-mountains-campfire-americana-trivia/2026-11-26/
END:VEVENT
END:VCALENDAR