BEGIN:VCALENDAR
VERSION:2.0
PRODID:-//Under Canvas® - ECPv6.15.18//NONSGML v1.0//EN
CALSCALE:GREGORIAN
METHOD:PUBLISH
X-WR-CALNAME:Under Canvas®
X-ORIGINAL-URL:https://www.undercanvas.com
X-WR-CALDESC:Events for Under Canvas®
REFRESH-INTERVAL;VALUE=DURATION:PT1H
X-Robots-Tag:noindex
X-PUBLISHED-TTL:PT1H
BEGIN:VTIMEZONE
TZID:America/New_York
BEGIN:DAYLIGHT
TZOFFSETFROM:-0500
TZOFFSETTO:-0400
TZNAME:EDT
DTSTART:20260308T070000
END:DAYLIGHT
BEGIN:STANDARD
TZOFFSETFROM:-0400
TZOFFSETTO:-0500
TZNAME:EST
DTSTART:20261101T060000
END:STANDARD
BEGIN:DAYLIGHT
TZOFFSETFROM:-0500
TZOFFSETTO:-0400
TZNAME:EDT
DTSTART:20270314T070000
END:DAYLIGHT
BEGIN:STANDARD
TZOFFSETFROM:-0400
TZOFFSETTO:-0500
TZNAME:EST
DTSTART:20271107T060000
END:STANDARD
BEGIN:DAYLIGHT
TZOFFSETFROM:-0500
TZOFFSETTO:-0400
TZNAME:EDT
DTSTART:20280312T070000
END:DAYLIGHT
BEGIN:STANDARD
TZOFFSETFROM:-0400
TZOFFSETTO:-0500
TZNAME:EST
DTSTART:20281105T060000
END:STANDARD
END:VTIMEZONE
BEGIN:VEVENT
DTSTART;TZID=America/New_York:20270204T190000
DTEND;TZID=America/New_York:20270204T200000
DTSTAMP:20260420T003125
CREATED:20260317T223452Z
LAST-MODIFIED:20260317T223452Z
UID:10009472-1801767600-1801771200@www.undercanvas.com
SUMMARY:Smoky Mountains: Campfire Americana Trivia
DESCRIPTION:Teams compete in trivia about: U.S. history\, national parks\, wildlife\, and famous explorers. The winning team will win a prize.
URL:https://www.undercanvas.com/event/smoky-mountains-campfire-americana-trivia/2027-02-04/
END:VEVENT
BEGIN:VEVENT
DTSTART;TZID=America/New_York:20270211T190000
DTEND;TZID=America/New_York:20270211T200000
DTSTAMP:20260420T003125
CREATED:20260317T223452Z
LAST-MODIFIED:20260317T223452Z
UID:10009473-1802372400-1802376000@www.undercanvas.com
SUMMARY:Smoky Mountains: Campfire Americana Trivia
DESCRIPTION:Teams compete in trivia about: U.S. history\, national parks\, wildlife\, and famous explorers. The winning team will win a prize.
URL:https://www.undercanvas.com/event/smoky-mountains-campfire-americana-trivia/2027-02-11/
END:VEVENT
BEGIN:VEVENT
DTSTART;TZID=America/New_York:20270218T190000
DTEND;TZID=America/New_York:20270218T200000
DTSTAMP:20260420T003125
CREATED:20260317T223452Z
LAST-MODIFIED:20260317T223452Z
UID:10009474-1802977200-1802980800@www.undercanvas.com
SUMMARY:Smoky Mountains: Campfire Americana Trivia
DESCRIPTION:Teams compete in trivia about: U.S. history\, national parks\, wildlife\, and famous explorers. The winning team will win a prize.
URL:https://www.undercanvas.com/event/smoky-mountains-campfire-americana-trivia/2027-02-18/
END:VEVENT
BEGIN:VEVENT
DTSTART;TZID=America/New_York:20270225T190000
DTEND;TZID=America/New_York:20270225T200000
DTSTAMP:20260420T003125
CREATED:20260317T223452Z
LAST-MODIFIED:20260317T223452Z
UID:10009475-1803582000-1803585600@www.undercanvas.com
SUMMARY:Smoky Mountains: Campfire Americana Trivia
DESCRIPTION:Teams compete in trivia about: U.S. history\, national parks\, wildlife\, and famous explorers. The winning team will win a prize.
URL:https://www.undercanvas.com/event/smoky-mountains-campfire-americana-trivia/2027-02-25/
END:VEVENT
END:VCALENDAR