BEGIN:VCALENDAR
VERSION:2.0
PRODID:-//Under Canvas® - ECPv6.15.18//NONSGML v1.0//EN
CALSCALE:GREGORIAN
METHOD:PUBLISH
X-WR-CALNAME:Under Canvas®
X-ORIGINAL-URL:https://www.undercanvas.com
X-WR-CALDESC:Events for Under Canvas®
REFRESH-INTERVAL;VALUE=DURATION:PT1H
X-Robots-Tag:noindex
X-PUBLISHED-TTL:PT1H
BEGIN:VTIMEZONE
TZID:America/Denver
BEGIN:DAYLIGHT
TZOFFSETFROM:-0700
TZOFFSETTO:-0600
TZNAME:MDT
DTSTART:20250309T090000
END:DAYLIGHT
BEGIN:STANDARD
TZOFFSETFROM:-0600
TZOFFSETTO:-0700
TZNAME:MST
DTSTART:20251102T080000
END:STANDARD
BEGIN:DAYLIGHT
TZOFFSETFROM:-0700
TZOFFSETTO:-0600
TZNAME:MDT
DTSTART:20260308T090000
END:DAYLIGHT
BEGIN:STANDARD
TZOFFSETFROM:-0600
TZOFFSETTO:-0700
TZNAME:MST
DTSTART:20261101T080000
END:STANDARD
BEGIN:DAYLIGHT
TZOFFSETFROM:-0700
TZOFFSETTO:-0600
TZNAME:MDT
DTSTART:20270314T090000
END:DAYLIGHT
BEGIN:STANDARD
TZOFFSETFROM:-0600
TZOFFSETTO:-0700
TZNAME:MST
DTSTART:20271107T080000
END:STANDARD
END:VTIMEZONE
BEGIN:VEVENT
DTSTART;TZID=America/Denver:20260421T183000
DTEND;TZID=America/Denver:20260421T193000
DTSTAMP:20260420T114231
CREATED:20260226T000957Z
LAST-MODIFIED:20260226T003058Z
UID:10008698-1776796200-1776799800@www.undercanvas.com
SUMMARY:Zion: Galaxy Jewelry Making
DESCRIPTION:Join us under the stars to make a star themed bracelet or necklace. Thread\, beads and charms and hands-on help will be provided. Adults and Kids encouraged.
URL:https://www.undercanvas.com/event/galaxy-jewelry-making/2026-04-21/
ATTACH;FMTTYPE=image/jpeg:/wp-content/uploads/2024/02/shutterstock_686788690-scaled-e1708013210813.jpg
END:VEVENT
BEGIN:VEVENT
DTSTART;TZID=America/Denver:20260428T183000
DTEND;TZID=America/Denver:20260428T193000
DTSTAMP:20260420T114231
CREATED:20260226T000957Z
LAST-MODIFIED:20260226T003058Z
UID:10008699-1777401000-1777404600@www.undercanvas.com
SUMMARY:Zion: Galaxy Jewelry Making
DESCRIPTION:Join us under the stars to make a star themed bracelet or necklace. Thread\, beads and charms and hands-on help will be provided. Adults and Kids encouraged.
URL:https://www.undercanvas.com/event/galaxy-jewelry-making/2026-04-28/
ATTACH;FMTTYPE=image/jpeg:/wp-content/uploads/2024/02/shutterstock_686788690-scaled-e1708013210813.jpg
END:VEVENT
BEGIN:VEVENT
DTSTART;TZID=America/Denver:20260505T183000
DTEND;TZID=America/Denver:20260505T193000
DTSTAMP:20260420T114231
CREATED:20260226T000957Z
LAST-MODIFIED:20260226T003058Z
UID:10008700-1778005800-1778009400@www.undercanvas.com
SUMMARY:Zion: Galaxy Jewelry Making
DESCRIPTION:Join us under the stars to make a star themed bracelet or necklace. Thread\, beads and charms and hands-on help will be provided. Adults and Kids encouraged.
URL:https://www.undercanvas.com/event/galaxy-jewelry-making/2026-05-05/
ATTACH;FMTTYPE=image/jpeg:/wp-content/uploads/2024/02/shutterstock_686788690-scaled-e1708013210813.jpg
END:VEVENT
BEGIN:VEVENT
DTSTART;TZID=America/Denver:20260512T183000
DTEND;TZID=America/Denver:20260512T193000
DTSTAMP:20260420T114231
CREATED:20260226T000957Z
LAST-MODIFIED:20260226T003058Z
UID:10008701-1778610600-1778614200@www.undercanvas.com
SUMMARY:Zion: Galaxy Jewelry Making
DESCRIPTION:Join us under the stars to make a star themed bracelet or necklace. Thread\, beads and charms and hands-on help will be provided. Adults and Kids encouraged.
URL:https://www.undercanvas.com/event/galaxy-jewelry-making/2026-05-12/
ATTACH;FMTTYPE=image/jpeg:/wp-content/uploads/2024/02/shutterstock_686788690-scaled-e1708013210813.jpg
END:VEVENT
BEGIN:VEVENT
DTSTART;TZID=America/Denver:20260519T183000
DTEND;TZID=America/Denver:20260519T193000
DTSTAMP:20260420T114231
CREATED:20260226T000957Z
LAST-MODIFIED:20260226T003058Z
UID:10008702-1779215400-1779219000@www.undercanvas.com
SUMMARY:Zion: Galaxy Jewelry Making
DESCRIPTION:Join us under the stars to make a star themed bracelet or necklace. Thread\, beads and charms and hands-on help will be provided. Adults and Kids encouraged.
URL:https://www.undercanvas.com/event/galaxy-jewelry-making/2026-05-19/
ATTACH;FMTTYPE=image/jpeg:/wp-content/uploads/2024/02/shutterstock_686788690-scaled-e1708013210813.jpg
END:VEVENT
BEGIN:VEVENT
DTSTART;TZID=America/Denver:20260526T183000
DTEND;TZID=America/Denver:20260526T193000
DTSTAMP:20260420T114231
CREATED:20260226T000957Z
LAST-MODIFIED:20260226T003058Z
UID:10008703-1779820200-1779823800@www.undercanvas.com
SUMMARY:Zion: Galaxy Jewelry Making
DESCRIPTION:Join us under the stars to make a star themed bracelet or necklace. Thread\, beads and charms and hands-on help will be provided. Adults and Kids encouraged.
URL:https://www.undercanvas.com/event/galaxy-jewelry-making/2026-05-26/
ATTACH;FMTTYPE=image/jpeg:/wp-content/uploads/2024/02/shutterstock_686788690-scaled-e1708013210813.jpg
END:VEVENT
BEGIN:VEVENT
DTSTART;TZID=America/Denver:20260602T183000
DTEND;TZID=America/Denver:20260602T193000
DTSTAMP:20260420T114231
CREATED:20260226T000957Z
LAST-MODIFIED:20260226T003058Z
UID:10008704-1780425000-1780428600@www.undercanvas.com
SUMMARY:Zion: Galaxy Jewelry Making
DESCRIPTION:Join us under the stars to make a star themed bracelet or necklace. Thread\, beads and charms and hands-on help will be provided. Adults and Kids encouraged.
URL:https://www.undercanvas.com/event/galaxy-jewelry-making/2026-06-02/
ATTACH;FMTTYPE=image/jpeg:/wp-content/uploads/2024/02/shutterstock_686788690-scaled-e1708013210813.jpg
END:VEVENT
BEGIN:VEVENT
DTSTART;TZID=America/Denver:20260609T183000
DTEND;TZID=America/Denver:20260609T193000
DTSTAMP:20260420T114231
CREATED:20260226T000957Z
LAST-MODIFIED:20260226T003058Z
UID:10008705-1781029800-1781033400@www.undercanvas.com
SUMMARY:Zion: Galaxy Jewelry Making
DESCRIPTION:Join us under the stars to make a star themed bracelet or necklace. Thread\, beads and charms and hands-on help will be provided. Adults and Kids encouraged.
URL:https://www.undercanvas.com/event/galaxy-jewelry-making/2026-06-09/
ATTACH;FMTTYPE=image/jpeg:/wp-content/uploads/2024/02/shutterstock_686788690-scaled-e1708013210813.jpg
END:VEVENT
BEGIN:VEVENT
DTSTART;TZID=America/Denver:20260616T183000
DTEND;TZID=America/Denver:20260616T193000
DTSTAMP:20260420T114231
CREATED:20260226T000957Z
LAST-MODIFIED:20260226T003058Z
UID:10008706-1781634600-1781638200@www.undercanvas.com
SUMMARY:Zion: Galaxy Jewelry Making
DESCRIPTION:Join us under the stars to make a star themed bracelet or necklace. Thread\, beads and charms and hands-on help will be provided. Adults and Kids encouraged.
URL:https://www.undercanvas.com/event/galaxy-jewelry-making/2026-06-16/
ATTACH;FMTTYPE=image/jpeg:/wp-content/uploads/2024/02/shutterstock_686788690-scaled-e1708013210813.jpg
END:VEVENT
BEGIN:VEVENT
DTSTART;TZID=America/Denver:20260623T183000
DTEND;TZID=America/Denver:20260623T193000
DTSTAMP:20260420T114231
CREATED:20260226T000957Z
LAST-MODIFIED:20260226T003058Z
UID:10008707-1782239400-1782243000@www.undercanvas.com
SUMMARY:Zion: Galaxy Jewelry Making
DESCRIPTION:Join us under the stars to make a star themed bracelet or necklace. Thread\, beads and charms and hands-on help will be provided. Adults and Kids encouraged.
URL:https://www.undercanvas.com/event/galaxy-jewelry-making/2026-06-23/
ATTACH;FMTTYPE=image/jpeg:/wp-content/uploads/2024/02/shutterstock_686788690-scaled-e1708013210813.jpg
END:VEVENT
BEGIN:VEVENT
DTSTART;TZID=America/Denver:20260630T183000
DTEND;TZID=America/Denver:20260630T193000
DTSTAMP:20260420T114231
CREATED:20260226T000957Z
LAST-MODIFIED:20260226T003058Z
UID:10008708-1782844200-1782847800@www.undercanvas.com
SUMMARY:Zion: Galaxy Jewelry Making
DESCRIPTION:Join us under the stars to make a star themed bracelet or necklace. Thread\, beads and charms and hands-on help will be provided. Adults and Kids encouraged.
URL:https://www.undercanvas.com/event/galaxy-jewelry-making/2026-06-30/
ATTACH;FMTTYPE=image/jpeg:/wp-content/uploads/2024/02/shutterstock_686788690-scaled-e1708013210813.jpg
END:VEVENT
BEGIN:VEVENT
DTSTART;TZID=America/Denver:20260707T183000
DTEND;TZID=America/Denver:20260707T193000
DTSTAMP:20260420T114231
CREATED:20260226T000957Z
LAST-MODIFIED:20260226T003058Z
UID:10008709-1783449000-1783452600@www.undercanvas.com
SUMMARY:Zion: Galaxy Jewelry Making
DESCRIPTION:Join us under the stars to make a star themed bracelet or necklace. Thread\, beads and charms and hands-on help will be provided. Adults and Kids encouraged.
URL:https://www.undercanvas.com/event/galaxy-jewelry-making/2026-07-07/
ATTACH;FMTTYPE=image/jpeg:/wp-content/uploads/2024/02/shutterstock_686788690-scaled-e1708013210813.jpg
END:VEVENT
BEGIN:VEVENT
DTSTART;TZID=America/Denver:20260714T183000
DTEND;TZID=America/Denver:20260714T193000
DTSTAMP:20260420T114231
CREATED:20260226T000957Z
LAST-MODIFIED:20260226T003058Z
UID:10008710-1784053800-1784057400@www.undercanvas.com
SUMMARY:Zion: Galaxy Jewelry Making
DESCRIPTION:Join us under the stars to make a star themed bracelet or necklace. Thread\, beads and charms and hands-on help will be provided. Adults and Kids encouraged.
URL:https://www.undercanvas.com/event/galaxy-jewelry-making/2026-07-14/
ATTACH;FMTTYPE=image/jpeg:/wp-content/uploads/2024/02/shutterstock_686788690-scaled-e1708013210813.jpg
END:VEVENT
BEGIN:VEVENT
DTSTART;TZID=America/Denver:20260721T183000
DTEND;TZID=America/Denver:20260721T193000
DTSTAMP:20260420T114231
CREATED:20260226T000957Z
LAST-MODIFIED:20260226T003058Z
UID:10008711-1784658600-1784662200@www.undercanvas.com
SUMMARY:Zion: Galaxy Jewelry Making
DESCRIPTION:Join us under the stars to make a star themed bracelet or necklace. Thread\, beads and charms and hands-on help will be provided. Adults and Kids encouraged.
URL:https://www.undercanvas.com/event/galaxy-jewelry-making/2026-07-21/
ATTACH;FMTTYPE=image/jpeg:/wp-content/uploads/2024/02/shutterstock_686788690-scaled-e1708013210813.jpg
END:VEVENT
BEGIN:VEVENT
DTSTART;TZID=America/Denver:20260728T183000
DTEND;TZID=America/Denver:20260728T193000
DTSTAMP:20260420T114231
CREATED:20260226T000957Z
LAST-MODIFIED:20260226T003058Z
UID:10008712-1785263400-1785267000@www.undercanvas.com
SUMMARY:Zion: Galaxy Jewelry Making
DESCRIPTION:Join us under the stars to make a star themed bracelet or necklace. Thread\, beads and charms and hands-on help will be provided. Adults and Kids encouraged.
URL:https://www.undercanvas.com/event/galaxy-jewelry-making/2026-07-28/
ATTACH;FMTTYPE=image/jpeg:/wp-content/uploads/2024/02/shutterstock_686788690-scaled-e1708013210813.jpg
END:VEVENT
BEGIN:VEVENT
DTSTART;TZID=America/Denver:20260804T183000
DTEND;TZID=America/Denver:20260804T193000
DTSTAMP:20260420T114231
CREATED:20260226T000957Z
LAST-MODIFIED:20260226T003058Z
UID:10008713-1785868200-1785871800@www.undercanvas.com
SUMMARY:Zion: Galaxy Jewelry Making
DESCRIPTION:Join us under the stars to make a star themed bracelet or necklace. Thread\, beads and charms and hands-on help will be provided. Adults and Kids encouraged.
URL:https://www.undercanvas.com/event/galaxy-jewelry-making/2026-08-04/
ATTACH;FMTTYPE=image/jpeg:/wp-content/uploads/2024/02/shutterstock_686788690-scaled-e1708013210813.jpg
END:VEVENT
BEGIN:VEVENT
DTSTART;TZID=America/Denver:20260811T183000
DTEND;TZID=America/Denver:20260811T193000
DTSTAMP:20260420T114231
CREATED:20260226T000957Z
LAST-MODIFIED:20260226T003058Z
UID:10008714-1786473000-1786476600@www.undercanvas.com
SUMMARY:Zion: Galaxy Jewelry Making
DESCRIPTION:Join us under the stars to make a star themed bracelet or necklace. Thread\, beads and charms and hands-on help will be provided. Adults and Kids encouraged.
URL:https://www.undercanvas.com/event/galaxy-jewelry-making/2026-08-11/
ATTACH;FMTTYPE=image/jpeg:/wp-content/uploads/2024/02/shutterstock_686788690-scaled-e1708013210813.jpg
END:VEVENT
BEGIN:VEVENT
DTSTART;TZID=America/Denver:20260818T183000
DTEND;TZID=America/Denver:20260818T193000
DTSTAMP:20260420T114231
CREATED:20260226T000957Z
LAST-MODIFIED:20260226T003058Z
UID:10008715-1787077800-1787081400@www.undercanvas.com
SUMMARY:Zion: Galaxy Jewelry Making
DESCRIPTION:Join us under the stars to make a star themed bracelet or necklace. Thread\, beads and charms and hands-on help will be provided. Adults and Kids encouraged.
URL:https://www.undercanvas.com/event/galaxy-jewelry-making/2026-08-18/
ATTACH;FMTTYPE=image/jpeg:/wp-content/uploads/2024/02/shutterstock_686788690-scaled-e1708013210813.jpg
END:VEVENT
BEGIN:VEVENT
DTSTART;TZID=America/Denver:20260825T183000
DTEND;TZID=America/Denver:20260825T193000
DTSTAMP:20260420T114231
CREATED:20260226T000957Z
LAST-MODIFIED:20260226T003058Z
UID:10008716-1787682600-1787686200@www.undercanvas.com
SUMMARY:Zion: Galaxy Jewelry Making
DESCRIPTION:Join us under the stars to make a star themed bracelet or necklace. Thread\, beads and charms and hands-on help will be provided. Adults and Kids encouraged.
URL:https://www.undercanvas.com/event/galaxy-jewelry-making/2026-08-25/
ATTACH;FMTTYPE=image/jpeg:/wp-content/uploads/2024/02/shutterstock_686788690-scaled-e1708013210813.jpg
END:VEVENT
BEGIN:VEVENT
DTSTART;TZID=America/Denver:20260901T183000
DTEND;TZID=America/Denver:20260901T193000
DTSTAMP:20260420T114231
CREATED:20260226T000957Z
LAST-MODIFIED:20260226T003058Z
UID:10008717-1788287400-1788291000@www.undercanvas.com
SUMMARY:Zion: Galaxy Jewelry Making
DESCRIPTION:Join us under the stars to make a star themed bracelet or necklace. Thread\, beads and charms and hands-on help will be provided. Adults and Kids encouraged.
URL:https://www.undercanvas.com/event/galaxy-jewelry-making/2026-09-01/
ATTACH;FMTTYPE=image/jpeg:/wp-content/uploads/2024/02/shutterstock_686788690-scaled-e1708013210813.jpg
END:VEVENT
BEGIN:VEVENT
DTSTART;TZID=America/Denver:20260908T183000
DTEND;TZID=America/Denver:20260908T193000
DTSTAMP:20260420T114231
CREATED:20260226T000957Z
LAST-MODIFIED:20260226T003058Z
UID:10008718-1788892200-1788895800@www.undercanvas.com
SUMMARY:Zion: Galaxy Jewelry Making
DESCRIPTION:Join us under the stars to make a star themed bracelet or necklace. Thread\, beads and charms and hands-on help will be provided. Adults and Kids encouraged.
URL:https://www.undercanvas.com/event/galaxy-jewelry-making/2026-09-08/
ATTACH;FMTTYPE=image/jpeg:/wp-content/uploads/2024/02/shutterstock_686788690-scaled-e1708013210813.jpg
END:VEVENT
BEGIN:VEVENT
DTSTART;TZID=America/Denver:20260915T183000
DTEND;TZID=America/Denver:20260915T193000
DTSTAMP:20260420T114231
CREATED:20260226T000957Z
LAST-MODIFIED:20260226T003058Z
UID:10008719-1789497000-1789500600@www.undercanvas.com
SUMMARY:Zion: Galaxy Jewelry Making
DESCRIPTION:Join us under the stars to make a star themed bracelet or necklace. Thread\, beads and charms and hands-on help will be provided. Adults and Kids encouraged.
URL:https://www.undercanvas.com/event/galaxy-jewelry-making/2026-09-15/
ATTACH;FMTTYPE=image/jpeg:/wp-content/uploads/2024/02/shutterstock_686788690-scaled-e1708013210813.jpg
END:VEVENT
BEGIN:VEVENT
DTSTART;TZID=America/Denver:20260922T183000
DTEND;TZID=America/Denver:20260922T193000
DTSTAMP:20260420T114231
CREATED:20260226T000957Z
LAST-MODIFIED:20260226T003058Z
UID:10008720-1790101800-1790105400@www.undercanvas.com
SUMMARY:Zion: Galaxy Jewelry Making
DESCRIPTION:Join us under the stars to make a star themed bracelet or necklace. Thread\, beads and charms and hands-on help will be provided. Adults and Kids encouraged.
URL:https://www.undercanvas.com/event/galaxy-jewelry-making/2026-09-22/
ATTACH;FMTTYPE=image/jpeg:/wp-content/uploads/2024/02/shutterstock_686788690-scaled-e1708013210813.jpg
END:VEVENT
BEGIN:VEVENT
DTSTART;TZID=America/Denver:20260929T183000
DTEND;TZID=America/Denver:20260929T193000
DTSTAMP:20260420T114231
CREATED:20260226T000957Z
LAST-MODIFIED:20260226T003058Z
UID:10008721-1790706600-1790710200@www.undercanvas.com
SUMMARY:Zion: Galaxy Jewelry Making
DESCRIPTION:Join us under the stars to make a star themed bracelet or necklace. Thread\, beads and charms and hands-on help will be provided. Adults and Kids encouraged.
URL:https://www.undercanvas.com/event/galaxy-jewelry-making/2026-09-29/
ATTACH;FMTTYPE=image/jpeg:/wp-content/uploads/2024/02/shutterstock_686788690-scaled-e1708013210813.jpg
END:VEVENT
BEGIN:VEVENT
DTSTART;TZID=America/Denver:20261006T183000
DTEND;TZID=America/Denver:20261006T193000
DTSTAMP:20260420T114231
CREATED:20260226T000957Z
LAST-MODIFIED:20260226T003058Z
UID:10008722-1791311400-1791315000@www.undercanvas.com
SUMMARY:Zion: Galaxy Jewelry Making
DESCRIPTION:Join us under the stars to make a star themed bracelet or necklace. Thread\, beads and charms and hands-on help will be provided. Adults and Kids encouraged.
URL:https://www.undercanvas.com/event/galaxy-jewelry-making/2026-10-06/
ATTACH;FMTTYPE=image/jpeg:/wp-content/uploads/2024/02/shutterstock_686788690-scaled-e1708013210813.jpg
END:VEVENT
BEGIN:VEVENT
DTSTART;TZID=America/Denver:20261013T183000
DTEND;TZID=America/Denver:20261013T193000
DTSTAMP:20260420T114231
CREATED:20260226T000957Z
LAST-MODIFIED:20260226T003058Z
UID:10008723-1791916200-1791919800@www.undercanvas.com
SUMMARY:Zion: Galaxy Jewelry Making
DESCRIPTION:Join us under the stars to make a star themed bracelet or necklace. Thread\, beads and charms and hands-on help will be provided. Adults and Kids encouraged.
URL:https://www.undercanvas.com/event/galaxy-jewelry-making/2026-10-13/
ATTACH;FMTTYPE=image/jpeg:/wp-content/uploads/2024/02/shutterstock_686788690-scaled-e1708013210813.jpg
END:VEVENT
BEGIN:VEVENT
DTSTART;TZID=America/Denver:20261020T183000
DTEND;TZID=America/Denver:20261020T193000
DTSTAMP:20260420T114231
CREATED:20260226T000957Z
LAST-MODIFIED:20260226T003058Z
UID:10008724-1792521000-1792524600@www.undercanvas.com
SUMMARY:Zion: Galaxy Jewelry Making
DESCRIPTION:Join us under the stars to make a star themed bracelet or necklace. Thread\, beads and charms and hands-on help will be provided. Adults and Kids encouraged.
URL:https://www.undercanvas.com/event/galaxy-jewelry-making/2026-10-20/
ATTACH;FMTTYPE=image/jpeg:/wp-content/uploads/2024/02/shutterstock_686788690-scaled-e1708013210813.jpg
END:VEVENT
BEGIN:VEVENT
DTSTART;TZID=America/Denver:20261027T183000
DTEND;TZID=America/Denver:20261027T193000
DTSTAMP:20260420T114231
CREATED:20260226T000957Z
LAST-MODIFIED:20260226T003058Z
UID:10008725-1793125800-1793129400@www.undercanvas.com
SUMMARY:Zion: Galaxy Jewelry Making
DESCRIPTION:Join us under the stars to make a star themed bracelet or necklace. Thread\, beads and charms and hands-on help will be provided. Adults and Kids encouraged.
URL:https://www.undercanvas.com/event/galaxy-jewelry-making/2026-10-27/
ATTACH;FMTTYPE=image/jpeg:/wp-content/uploads/2024/02/shutterstock_686788690-scaled-e1708013210813.jpg
END:VEVENT
BEGIN:VEVENT
DTSTART;TZID=America/Denver:20261103T183000
DTEND;TZID=America/Denver:20261103T193000
DTSTAMP:20260420T114231
CREATED:20260226T000957Z
LAST-MODIFIED:20260226T003058Z
UID:10008726-1793730600-1793734200@www.undercanvas.com
SUMMARY:Zion: Galaxy Jewelry Making
DESCRIPTION:Join us under the stars to make a star themed bracelet or necklace. Thread\, beads and charms and hands-on help will be provided. Adults and Kids encouraged.
URL:https://www.undercanvas.com/event/galaxy-jewelry-making/2026-11-03/
ATTACH;FMTTYPE=image/jpeg:/wp-content/uploads/2024/02/shutterstock_686788690-scaled-e1708013210813.jpg
END:VEVENT
END:VCALENDAR