BEGIN:VCALENDAR
VERSION:2.0
PRODID:-//Under Canvas® - ECPv6.15.18//NONSGML v1.0//EN
CALSCALE:GREGORIAN
METHOD:PUBLISH
X-WR-CALNAME:Under Canvas®
X-ORIGINAL-URL:https://www.undercanvas.com
X-WR-CALDESC:Events for Under Canvas®
REFRESH-INTERVAL;VALUE=DURATION:PT1H
X-Robots-Tag:noindex
X-PUBLISHED-TTL:PT1H
BEGIN:VTIMEZONE
TZID:America/Denver
BEGIN:DAYLIGHT
TZOFFSETFROM:-0700
TZOFFSETTO:-0600
TZNAME:MDT
DTSTART:20250309T090000
END:DAYLIGHT
BEGIN:STANDARD
TZOFFSETFROM:-0600
TZOFFSETTO:-0700
TZNAME:MST
DTSTART:20251102T080000
END:STANDARD
BEGIN:DAYLIGHT
TZOFFSETFROM:-0700
TZOFFSETTO:-0600
TZNAME:MDT
DTSTART:20260308T090000
END:DAYLIGHT
BEGIN:STANDARD
TZOFFSETFROM:-0600
TZOFFSETTO:-0700
TZNAME:MST
DTSTART:20261101T080000
END:STANDARD
BEGIN:DAYLIGHT
TZOFFSETFROM:-0700
TZOFFSETTO:-0600
TZNAME:MDT
DTSTART:20270314T090000
END:DAYLIGHT
BEGIN:STANDARD
TZOFFSETFROM:-0600
TZOFFSETTO:-0700
TZNAME:MST
DTSTART:20271107T080000
END:STANDARD
END:VTIMEZONE
BEGIN:VEVENT
DTSTART;TZID=America/Denver:20260423T183000
DTEND;TZID=America/Denver:20260423T193000
DTSTAMP:20260423T052037
CREATED:20260226T001522Z
LAST-MODIFIED:20260226T003149Z
UID:10008768-1776969000-1776972600@www.undercanvas.com
SUMMARY:Zion: Galaxy Canvas Painting
DESCRIPTION:Join us for a guided canvas painting session of the night sky! A predetermined design will be provided and led by one of our own Guest Experience team members. You are more than welcome to paint your own idea as well! Canvas and paint supplies will be provided.
URL:https://www.undercanvas.com/event/zion-galaxy-canvas-painting/2026-04-23/
ATTACH;FMTTYPE=image/jpeg:/wp-content/uploads/2021/08/Yellowstone-Milkyway1-e1658503212761.jpg
END:VEVENT
BEGIN:VEVENT
DTSTART;TZID=America/Denver:20260430T183000
DTEND;TZID=America/Denver:20260430T193000
DTSTAMP:20260423T052037
CREATED:20260226T001522Z
LAST-MODIFIED:20260226T003149Z
UID:10008769-1777573800-1777577400@www.undercanvas.com
SUMMARY:Zion: Galaxy Canvas Painting
DESCRIPTION:Join us for a guided canvas painting session of the night sky! A predetermined design will be provided and led by one of our own Guest Experience team members. You are more than welcome to paint your own idea as well! Canvas and paint supplies will be provided.
URL:https://www.undercanvas.com/event/zion-galaxy-canvas-painting/2026-04-30/
ATTACH;FMTTYPE=image/jpeg:/wp-content/uploads/2021/08/Yellowstone-Milkyway1-e1658503212761.jpg
END:VEVENT
BEGIN:VEVENT
DTSTART;TZID=America/Denver:20260507T183000
DTEND;TZID=America/Denver:20260507T193000
DTSTAMP:20260423T052037
CREATED:20260226T001522Z
LAST-MODIFIED:20260226T003149Z
UID:10008770-1778178600-1778182200@www.undercanvas.com
SUMMARY:Zion: Galaxy Canvas Painting
DESCRIPTION:Join us for a guided canvas painting session of the night sky! A predetermined design will be provided and led by one of our own Guest Experience team members. You are more than welcome to paint your own idea as well! Canvas and paint supplies will be provided.
URL:https://www.undercanvas.com/event/zion-galaxy-canvas-painting/2026-05-07/
ATTACH;FMTTYPE=image/jpeg:/wp-content/uploads/2021/08/Yellowstone-Milkyway1-e1658503212761.jpg
END:VEVENT
BEGIN:VEVENT
DTSTART;TZID=America/Denver:20260514T183000
DTEND;TZID=America/Denver:20260514T193000
DTSTAMP:20260423T052037
CREATED:20260226T001522Z
LAST-MODIFIED:20260226T003149Z
UID:10008771-1778783400-1778787000@www.undercanvas.com
SUMMARY:Zion: Galaxy Canvas Painting
DESCRIPTION:Join us for a guided canvas painting session of the night sky! A predetermined design will be provided and led by one of our own Guest Experience team members. You are more than welcome to paint your own idea as well! Canvas and paint supplies will be provided.
URL:https://www.undercanvas.com/event/zion-galaxy-canvas-painting/2026-05-14/
ATTACH;FMTTYPE=image/jpeg:/wp-content/uploads/2021/08/Yellowstone-Milkyway1-e1658503212761.jpg
END:VEVENT
BEGIN:VEVENT
DTSTART;TZID=America/Denver:20260521T183000
DTEND;TZID=America/Denver:20260521T193000
DTSTAMP:20260423T052037
CREATED:20260226T001522Z
LAST-MODIFIED:20260226T003149Z
UID:10008772-1779388200-1779391800@www.undercanvas.com
SUMMARY:Zion: Galaxy Canvas Painting
DESCRIPTION:Join us for a guided canvas painting session of the night sky! A predetermined design will be provided and led by one of our own Guest Experience team members. You are more than welcome to paint your own idea as well! Canvas and paint supplies will be provided.
URL:https://www.undercanvas.com/event/zion-galaxy-canvas-painting/2026-05-21/
ATTACH;FMTTYPE=image/jpeg:/wp-content/uploads/2021/08/Yellowstone-Milkyway1-e1658503212761.jpg
END:VEVENT
BEGIN:VEVENT
DTSTART;TZID=America/Denver:20260528T183000
DTEND;TZID=America/Denver:20260528T193000
DTSTAMP:20260423T052037
CREATED:20260226T001522Z
LAST-MODIFIED:20260226T003149Z
UID:10008773-1779993000-1779996600@www.undercanvas.com
SUMMARY:Zion: Galaxy Canvas Painting
DESCRIPTION:Join us for a guided canvas painting session of the night sky! A predetermined design will be provided and led by one of our own Guest Experience team members. You are more than welcome to paint your own idea as well! Canvas and paint supplies will be provided.
URL:https://www.undercanvas.com/event/zion-galaxy-canvas-painting/2026-05-28/
ATTACH;FMTTYPE=image/jpeg:/wp-content/uploads/2021/08/Yellowstone-Milkyway1-e1658503212761.jpg
END:VEVENT
BEGIN:VEVENT
DTSTART;TZID=America/Denver:20260604T183000
DTEND;TZID=America/Denver:20260604T193000
DTSTAMP:20260423T052037
CREATED:20260226T001522Z
LAST-MODIFIED:20260226T003149Z
UID:10008774-1780597800-1780601400@www.undercanvas.com
SUMMARY:Zion: Galaxy Canvas Painting
DESCRIPTION:Join us for a guided canvas painting session of the night sky! A predetermined design will be provided and led by one of our own Guest Experience team members. You are more than welcome to paint your own idea as well! Canvas and paint supplies will be provided.
URL:https://www.undercanvas.com/event/zion-galaxy-canvas-painting/2026-06-04/
ATTACH;FMTTYPE=image/jpeg:/wp-content/uploads/2021/08/Yellowstone-Milkyway1-e1658503212761.jpg
END:VEVENT
BEGIN:VEVENT
DTSTART;TZID=America/Denver:20260611T183000
DTEND;TZID=America/Denver:20260611T193000
DTSTAMP:20260423T052037
CREATED:20260226T001522Z
LAST-MODIFIED:20260226T003149Z
UID:10008775-1781202600-1781206200@www.undercanvas.com
SUMMARY:Zion: Galaxy Canvas Painting
DESCRIPTION:Join us for a guided canvas painting session of the night sky! A predetermined design will be provided and led by one of our own Guest Experience team members. You are more than welcome to paint your own idea as well! Canvas and paint supplies will be provided.
URL:https://www.undercanvas.com/event/zion-galaxy-canvas-painting/2026-06-11/
ATTACH;FMTTYPE=image/jpeg:/wp-content/uploads/2021/08/Yellowstone-Milkyway1-e1658503212761.jpg
END:VEVENT
BEGIN:VEVENT
DTSTART;TZID=America/Denver:20260618T183000
DTEND;TZID=America/Denver:20260618T193000
DTSTAMP:20260423T052037
CREATED:20260226T001522Z
LAST-MODIFIED:20260226T003149Z
UID:10008776-1781807400-1781811000@www.undercanvas.com
SUMMARY:Zion: Galaxy Canvas Painting
DESCRIPTION:Join us for a guided canvas painting session of the night sky! A predetermined design will be provided and led by one of our own Guest Experience team members. You are more than welcome to paint your own idea as well! Canvas and paint supplies will be provided.
URL:https://www.undercanvas.com/event/zion-galaxy-canvas-painting/2026-06-18/
ATTACH;FMTTYPE=image/jpeg:/wp-content/uploads/2021/08/Yellowstone-Milkyway1-e1658503212761.jpg
END:VEVENT
BEGIN:VEVENT
DTSTART;TZID=America/Denver:20260625T183000
DTEND;TZID=America/Denver:20260625T193000
DTSTAMP:20260423T052037
CREATED:20260226T001522Z
LAST-MODIFIED:20260226T003149Z
UID:10008777-1782412200-1782415800@www.undercanvas.com
SUMMARY:Zion: Galaxy Canvas Painting
DESCRIPTION:Join us for a guided canvas painting session of the night sky! A predetermined design will be provided and led by one of our own Guest Experience team members. You are more than welcome to paint your own idea as well! Canvas and paint supplies will be provided.
URL:https://www.undercanvas.com/event/zion-galaxy-canvas-painting/2026-06-25/
ATTACH;FMTTYPE=image/jpeg:/wp-content/uploads/2021/08/Yellowstone-Milkyway1-e1658503212761.jpg
END:VEVENT
BEGIN:VEVENT
DTSTART;TZID=America/Denver:20260702T183000
DTEND;TZID=America/Denver:20260702T193000
DTSTAMP:20260423T052037
CREATED:20260226T001522Z
LAST-MODIFIED:20260226T003149Z
UID:10008778-1783017000-1783020600@www.undercanvas.com
SUMMARY:Zion: Galaxy Canvas Painting
DESCRIPTION:Join us for a guided canvas painting session of the night sky! A predetermined design will be provided and led by one of our own Guest Experience team members. You are more than welcome to paint your own idea as well! Canvas and paint supplies will be provided.
URL:https://www.undercanvas.com/event/zion-galaxy-canvas-painting/2026-07-02/
ATTACH;FMTTYPE=image/jpeg:/wp-content/uploads/2021/08/Yellowstone-Milkyway1-e1658503212761.jpg
END:VEVENT
BEGIN:VEVENT
DTSTART;TZID=America/Denver:20260709T183000
DTEND;TZID=America/Denver:20260709T193000
DTSTAMP:20260423T052037
CREATED:20260226T001522Z
LAST-MODIFIED:20260226T003149Z
UID:10008779-1783621800-1783625400@www.undercanvas.com
SUMMARY:Zion: Galaxy Canvas Painting
DESCRIPTION:Join us for a guided canvas painting session of the night sky! A predetermined design will be provided and led by one of our own Guest Experience team members. You are more than welcome to paint your own idea as well! Canvas and paint supplies will be provided.
URL:https://www.undercanvas.com/event/zion-galaxy-canvas-painting/2026-07-09/
ATTACH;FMTTYPE=image/jpeg:/wp-content/uploads/2021/08/Yellowstone-Milkyway1-e1658503212761.jpg
END:VEVENT
BEGIN:VEVENT
DTSTART;TZID=America/Denver:20260716T183000
DTEND;TZID=America/Denver:20260716T193000
DTSTAMP:20260423T052037
CREATED:20260226T001522Z
LAST-MODIFIED:20260226T003149Z
UID:10008780-1784226600-1784230200@www.undercanvas.com
SUMMARY:Zion: Galaxy Canvas Painting
DESCRIPTION:Join us for a guided canvas painting session of the night sky! A predetermined design will be provided and led by one of our own Guest Experience team members. You are more than welcome to paint your own idea as well! Canvas and paint supplies will be provided.
URL:https://www.undercanvas.com/event/zion-galaxy-canvas-painting/2026-07-16/
ATTACH;FMTTYPE=image/jpeg:/wp-content/uploads/2021/08/Yellowstone-Milkyway1-e1658503212761.jpg
END:VEVENT
BEGIN:VEVENT
DTSTART;TZID=America/Denver:20260723T183000
DTEND;TZID=America/Denver:20260723T193000
DTSTAMP:20260423T052037
CREATED:20260226T001522Z
LAST-MODIFIED:20260226T003149Z
UID:10008781-1784831400-1784835000@www.undercanvas.com
SUMMARY:Zion: Galaxy Canvas Painting
DESCRIPTION:Join us for a guided canvas painting session of the night sky! A predetermined design will be provided and led by one of our own Guest Experience team members. You are more than welcome to paint your own idea as well! Canvas and paint supplies will be provided.
URL:https://www.undercanvas.com/event/zion-galaxy-canvas-painting/2026-07-23/
ATTACH;FMTTYPE=image/jpeg:/wp-content/uploads/2021/08/Yellowstone-Milkyway1-e1658503212761.jpg
END:VEVENT
BEGIN:VEVENT
DTSTART;TZID=America/Denver:20260730T183000
DTEND;TZID=America/Denver:20260730T193000
DTSTAMP:20260423T052037
CREATED:20260226T001522Z
LAST-MODIFIED:20260226T003149Z
UID:10008782-1785436200-1785439800@www.undercanvas.com
SUMMARY:Zion: Galaxy Canvas Painting
DESCRIPTION:Join us for a guided canvas painting session of the night sky! A predetermined design will be provided and led by one of our own Guest Experience team members. You are more than welcome to paint your own idea as well! Canvas and paint supplies will be provided.
URL:https://www.undercanvas.com/event/zion-galaxy-canvas-painting/2026-07-30/
ATTACH;FMTTYPE=image/jpeg:/wp-content/uploads/2021/08/Yellowstone-Milkyway1-e1658503212761.jpg
END:VEVENT
BEGIN:VEVENT
DTSTART;TZID=America/Denver:20260806T183000
DTEND;TZID=America/Denver:20260806T193000
DTSTAMP:20260423T052037
CREATED:20260226T001522Z
LAST-MODIFIED:20260226T003149Z
UID:10008783-1786041000-1786044600@www.undercanvas.com
SUMMARY:Zion: Galaxy Canvas Painting
DESCRIPTION:Join us for a guided canvas painting session of the night sky! A predetermined design will be provided and led by one of our own Guest Experience team members. You are more than welcome to paint your own idea as well! Canvas and paint supplies will be provided.
URL:https://www.undercanvas.com/event/zion-galaxy-canvas-painting/2026-08-06/
ATTACH;FMTTYPE=image/jpeg:/wp-content/uploads/2021/08/Yellowstone-Milkyway1-e1658503212761.jpg
END:VEVENT
BEGIN:VEVENT
DTSTART;TZID=America/Denver:20260813T183000
DTEND;TZID=America/Denver:20260813T193000
DTSTAMP:20260423T052037
CREATED:20260226T001522Z
LAST-MODIFIED:20260226T003149Z
UID:10008784-1786645800-1786649400@www.undercanvas.com
SUMMARY:Zion: Galaxy Canvas Painting
DESCRIPTION:Join us for a guided canvas painting session of the night sky! A predetermined design will be provided and led by one of our own Guest Experience team members. You are more than welcome to paint your own idea as well! Canvas and paint supplies will be provided.
URL:https://www.undercanvas.com/event/zion-galaxy-canvas-painting/2026-08-13/
ATTACH;FMTTYPE=image/jpeg:/wp-content/uploads/2021/08/Yellowstone-Milkyway1-e1658503212761.jpg
END:VEVENT
BEGIN:VEVENT
DTSTART;TZID=America/Denver:20260820T183000
DTEND;TZID=America/Denver:20260820T193000
DTSTAMP:20260423T052037
CREATED:20260226T001522Z
LAST-MODIFIED:20260226T003149Z
UID:10008785-1787250600-1787254200@www.undercanvas.com
SUMMARY:Zion: Galaxy Canvas Painting
DESCRIPTION:Join us for a guided canvas painting session of the night sky! A predetermined design will be provided and led by one of our own Guest Experience team members. You are more than welcome to paint your own idea as well! Canvas and paint supplies will be provided.
URL:https://www.undercanvas.com/event/zion-galaxy-canvas-painting/2026-08-20/
ATTACH;FMTTYPE=image/jpeg:/wp-content/uploads/2021/08/Yellowstone-Milkyway1-e1658503212761.jpg
END:VEVENT
BEGIN:VEVENT
DTSTART;TZID=America/Denver:20260827T183000
DTEND;TZID=America/Denver:20260827T193000
DTSTAMP:20260423T052037
CREATED:20260226T001522Z
LAST-MODIFIED:20260226T003149Z
UID:10008786-1787855400-1787859000@www.undercanvas.com
SUMMARY:Zion: Galaxy Canvas Painting
DESCRIPTION:Join us for a guided canvas painting session of the night sky! A predetermined design will be provided and led by one of our own Guest Experience team members. You are more than welcome to paint your own idea as well! Canvas and paint supplies will be provided.
URL:https://www.undercanvas.com/event/zion-galaxy-canvas-painting/2026-08-27/
ATTACH;FMTTYPE=image/jpeg:/wp-content/uploads/2021/08/Yellowstone-Milkyway1-e1658503212761.jpg
END:VEVENT
BEGIN:VEVENT
DTSTART;TZID=America/Denver:20260903T183000
DTEND;TZID=America/Denver:20260903T193000
DTSTAMP:20260423T052037
CREATED:20260226T001522Z
LAST-MODIFIED:20260226T003149Z
UID:10008787-1788460200-1788463800@www.undercanvas.com
SUMMARY:Zion: Galaxy Canvas Painting
DESCRIPTION:Join us for a guided canvas painting session of the night sky! A predetermined design will be provided and led by one of our own Guest Experience team members. You are more than welcome to paint your own idea as well! Canvas and paint supplies will be provided.
URL:https://www.undercanvas.com/event/zion-galaxy-canvas-painting/2026-09-03/
ATTACH;FMTTYPE=image/jpeg:/wp-content/uploads/2021/08/Yellowstone-Milkyway1-e1658503212761.jpg
END:VEVENT
BEGIN:VEVENT
DTSTART;TZID=America/Denver:20260910T183000
DTEND;TZID=America/Denver:20260910T193000
DTSTAMP:20260423T052037
CREATED:20260226T001522Z
LAST-MODIFIED:20260226T003149Z
UID:10008788-1789065000-1789068600@www.undercanvas.com
SUMMARY:Zion: Galaxy Canvas Painting
DESCRIPTION:Join us for a guided canvas painting session of the night sky! A predetermined design will be provided and led by one of our own Guest Experience team members. You are more than welcome to paint your own idea as well! Canvas and paint supplies will be provided.
URL:https://www.undercanvas.com/event/zion-galaxy-canvas-painting/2026-09-10/
ATTACH;FMTTYPE=image/jpeg:/wp-content/uploads/2021/08/Yellowstone-Milkyway1-e1658503212761.jpg
END:VEVENT
BEGIN:VEVENT
DTSTART;TZID=America/Denver:20260917T183000
DTEND;TZID=America/Denver:20260917T193000
DTSTAMP:20260423T052037
CREATED:20260226T001522Z
LAST-MODIFIED:20260226T003149Z
UID:10008789-1789669800-1789673400@www.undercanvas.com
SUMMARY:Zion: Galaxy Canvas Painting
DESCRIPTION:Join us for a guided canvas painting session of the night sky! A predetermined design will be provided and led by one of our own Guest Experience team members. You are more than welcome to paint your own idea as well! Canvas and paint supplies will be provided.
URL:https://www.undercanvas.com/event/zion-galaxy-canvas-painting/2026-09-17/
ATTACH;FMTTYPE=image/jpeg:/wp-content/uploads/2021/08/Yellowstone-Milkyway1-e1658503212761.jpg
END:VEVENT
BEGIN:VEVENT
DTSTART;TZID=America/Denver:20260924T183000
DTEND;TZID=America/Denver:20260924T193000
DTSTAMP:20260423T052037
CREATED:20260226T001522Z
LAST-MODIFIED:20260226T003149Z
UID:10008790-1790274600-1790278200@www.undercanvas.com
SUMMARY:Zion: Galaxy Canvas Painting
DESCRIPTION:Join us for a guided canvas painting session of the night sky! A predetermined design will be provided and led by one of our own Guest Experience team members. You are more than welcome to paint your own idea as well! Canvas and paint supplies will be provided.
URL:https://www.undercanvas.com/event/zion-galaxy-canvas-painting/2026-09-24/
ATTACH;FMTTYPE=image/jpeg:/wp-content/uploads/2021/08/Yellowstone-Milkyway1-e1658503212761.jpg
END:VEVENT
BEGIN:VEVENT
DTSTART;TZID=America/Denver:20261001T183000
DTEND;TZID=America/Denver:20261001T193000
DTSTAMP:20260423T052037
CREATED:20260226T001522Z
LAST-MODIFIED:20260226T003149Z
UID:10008791-1790879400-1790883000@www.undercanvas.com
SUMMARY:Zion: Galaxy Canvas Painting
DESCRIPTION:Join us for a guided canvas painting session of the night sky! A predetermined design will be provided and led by one of our own Guest Experience team members. You are more than welcome to paint your own idea as well! Canvas and paint supplies will be provided.
URL:https://www.undercanvas.com/event/zion-galaxy-canvas-painting/2026-10-01/
ATTACH;FMTTYPE=image/jpeg:/wp-content/uploads/2021/08/Yellowstone-Milkyway1-e1658503212761.jpg
END:VEVENT
BEGIN:VEVENT
DTSTART;TZID=America/Denver:20261008T183000
DTEND;TZID=America/Denver:20261008T193000
DTSTAMP:20260423T052038
CREATED:20260226T001522Z
LAST-MODIFIED:20260226T003149Z
UID:10008792-1791484200-1791487800@www.undercanvas.com
SUMMARY:Zion: Galaxy Canvas Painting
DESCRIPTION:Join us for a guided canvas painting session of the night sky! A predetermined design will be provided and led by one of our own Guest Experience team members. You are more than welcome to paint your own idea as well! Canvas and paint supplies will be provided.
URL:https://www.undercanvas.com/event/zion-galaxy-canvas-painting/2026-10-08/
ATTACH;FMTTYPE=image/jpeg:/wp-content/uploads/2021/08/Yellowstone-Milkyway1-e1658503212761.jpg
END:VEVENT
BEGIN:VEVENT
DTSTART;TZID=America/Denver:20261015T183000
DTEND;TZID=America/Denver:20261015T193000
DTSTAMP:20260423T052038
CREATED:20260226T001522Z
LAST-MODIFIED:20260226T003149Z
UID:10008793-1792089000-1792092600@www.undercanvas.com
SUMMARY:Zion: Galaxy Canvas Painting
DESCRIPTION:Join us for a guided canvas painting session of the night sky! A predetermined design will be provided and led by one of our own Guest Experience team members. You are more than welcome to paint your own idea as well! Canvas and paint supplies will be provided.
URL:https://www.undercanvas.com/event/zion-galaxy-canvas-painting/2026-10-15/
ATTACH;FMTTYPE=image/jpeg:/wp-content/uploads/2021/08/Yellowstone-Milkyway1-e1658503212761.jpg
END:VEVENT
BEGIN:VEVENT
DTSTART;TZID=America/Denver:20261022T183000
DTEND;TZID=America/Denver:20261022T193000
DTSTAMP:20260423T052038
CREATED:20260226T001522Z
LAST-MODIFIED:20260226T003149Z
UID:10008794-1792693800-1792697400@www.undercanvas.com
SUMMARY:Zion: Galaxy Canvas Painting
DESCRIPTION:Join us for a guided canvas painting session of the night sky! A predetermined design will be provided and led by one of our own Guest Experience team members. You are more than welcome to paint your own idea as well! Canvas and paint supplies will be provided.
URL:https://www.undercanvas.com/event/zion-galaxy-canvas-painting/2026-10-22/
ATTACH;FMTTYPE=image/jpeg:/wp-content/uploads/2021/08/Yellowstone-Milkyway1-e1658503212761.jpg
END:VEVENT
BEGIN:VEVENT
DTSTART;TZID=America/Denver:20261029T183000
DTEND;TZID=America/Denver:20261029T193000
DTSTAMP:20260423T052038
CREATED:20260226T001522Z
LAST-MODIFIED:20260226T003149Z
UID:10008795-1793298600-1793302200@www.undercanvas.com
SUMMARY:Zion: Galaxy Canvas Painting
DESCRIPTION:Join us for a guided canvas painting session of the night sky! A predetermined design will be provided and led by one of our own Guest Experience team members. You are more than welcome to paint your own idea as well! Canvas and paint supplies will be provided.
URL:https://www.undercanvas.com/event/zion-galaxy-canvas-painting/2026-10-29/
ATTACH;FMTTYPE=image/jpeg:/wp-content/uploads/2021/08/Yellowstone-Milkyway1-e1658503212761.jpg
END:VEVENT
BEGIN:VEVENT
DTSTART;TZID=America/Denver:20261105T183000
DTEND;TZID=America/Denver:20261105T193000
DTSTAMP:20260423T052038
CREATED:20260226T001522Z
LAST-MODIFIED:20260226T003149Z
UID:10008796-1793903400-1793907000@www.undercanvas.com
SUMMARY:Zion: Galaxy Canvas Painting
DESCRIPTION:Join us for a guided canvas painting session of the night sky! A predetermined design will be provided and led by one of our own Guest Experience team members. You are more than welcome to paint your own idea as well! Canvas and paint supplies will be provided.
URL:https://www.undercanvas.com/event/zion-galaxy-canvas-painting/2026-11-05/
ATTACH;FMTTYPE=image/jpeg:/wp-content/uploads/2021/08/Yellowstone-Milkyway1-e1658503212761.jpg
END:VEVENT
END:VCALENDAR