BEGIN:VCALENDAR
VERSION:2.0
PRODID:-//Under Canvas® - ECPv6.15.18//NONSGML v1.0//EN
CALSCALE:GREGORIAN
METHOD:PUBLISH
X-WR-CALNAME:Under Canvas®
X-ORIGINAL-URL:https://www.undercanvas.com
X-WR-CALDESC:Events for Under Canvas®
REFRESH-INTERVAL;VALUE=DURATION:PT1H
X-Robots-Tag:noindex
X-PUBLISHED-TTL:PT1H
BEGIN:VTIMEZONE
TZID:America/Denver
BEGIN:DAYLIGHT
TZOFFSETFROM:-0700
TZOFFSETTO:-0600
TZNAME:MDT
DTSTART:20250309T090000
END:DAYLIGHT
BEGIN:STANDARD
TZOFFSETFROM:-0600
TZOFFSETTO:-0700
TZNAME:MST
DTSTART:20251102T080000
END:STANDARD
BEGIN:DAYLIGHT
TZOFFSETFROM:-0700
TZOFFSETTO:-0600
TZNAME:MDT
DTSTART:20260308T090000
END:DAYLIGHT
BEGIN:STANDARD
TZOFFSETFROM:-0600
TZOFFSETTO:-0700
TZNAME:MST
DTSTART:20261101T080000
END:STANDARD
BEGIN:DAYLIGHT
TZOFFSETFROM:-0700
TZOFFSETTO:-0600
TZNAME:MDT
DTSTART:20270314T090000
END:DAYLIGHT
BEGIN:STANDARD
TZOFFSETFROM:-0600
TZOFFSETTO:-0700
TZNAME:MST
DTSTART:20271107T080000
END:STANDARD
END:VTIMEZONE
BEGIN:VEVENT
DTSTART;TZID=America/Denver:20260427T190000
DTEND;TZID=America/Denver:20260427T203000
DTSTAMP:20260422T125458
CREATED:20260305T182818Z
LAST-MODIFIED:20260305T182818Z
UID:10009150-1777316400-1777321800@www.undercanvas.com
SUMMARY:Moab: Celestial Bracelet Making
DESCRIPTION:Create bracelets with celestial themed charms and beads.
URL:https://www.undercanvas.com/event/moab-celestial-bracelet-making/2026-04-27/
ATTACH;FMTTYPE=image/jpeg:/wp-content/uploads/2023/08/Yellowstone-Milkyway1-3-e1691760241395.jpg
END:VEVENT
BEGIN:VEVENT
DTSTART;TZID=America/Denver:20260504T190000
DTEND;TZID=America/Denver:20260504T203000
DTSTAMP:20260422T125458
CREATED:20260305T182818Z
LAST-MODIFIED:20260305T182818Z
UID:10009151-1777921200-1777926600@www.undercanvas.com
SUMMARY:Moab: Celestial Bracelet Making
DESCRIPTION:Create bracelets with celestial themed charms and beads.
URL:https://www.undercanvas.com/event/moab-celestial-bracelet-making/2026-05-04/
ATTACH;FMTTYPE=image/jpeg:/wp-content/uploads/2023/08/Yellowstone-Milkyway1-3-e1691760241395.jpg
END:VEVENT
BEGIN:VEVENT
DTSTART;TZID=America/Denver:20260511T190000
DTEND;TZID=America/Denver:20260511T203000
DTSTAMP:20260422T125458
CREATED:20260305T182818Z
LAST-MODIFIED:20260305T182818Z
UID:10009152-1778526000-1778531400@www.undercanvas.com
SUMMARY:Moab: Celestial Bracelet Making
DESCRIPTION:Create bracelets with celestial themed charms and beads.
URL:https://www.undercanvas.com/event/moab-celestial-bracelet-making/2026-05-11/
ATTACH;FMTTYPE=image/jpeg:/wp-content/uploads/2023/08/Yellowstone-Milkyway1-3-e1691760241395.jpg
END:VEVENT
BEGIN:VEVENT
DTSTART;TZID=America/Denver:20260518T190000
DTEND;TZID=America/Denver:20260518T203000
DTSTAMP:20260422T125458
CREATED:20260305T182818Z
LAST-MODIFIED:20260305T182818Z
UID:10009153-1779130800-1779136200@www.undercanvas.com
SUMMARY:Moab: Celestial Bracelet Making
DESCRIPTION:Create bracelets with celestial themed charms and beads.
URL:https://www.undercanvas.com/event/moab-celestial-bracelet-making/2026-05-18/
ATTACH;FMTTYPE=image/jpeg:/wp-content/uploads/2023/08/Yellowstone-Milkyway1-3-e1691760241395.jpg
END:VEVENT
BEGIN:VEVENT
DTSTART;TZID=America/Denver:20260525T190000
DTEND;TZID=America/Denver:20260525T203000
DTSTAMP:20260422T125458
CREATED:20260305T182818Z
LAST-MODIFIED:20260305T182818Z
UID:10009154-1779735600-1779741000@www.undercanvas.com
SUMMARY:Moab: Celestial Bracelet Making
DESCRIPTION:Create bracelets with celestial themed charms and beads.
URL:https://www.undercanvas.com/event/moab-celestial-bracelet-making/2026-05-25/
ATTACH;FMTTYPE=image/jpeg:/wp-content/uploads/2023/08/Yellowstone-Milkyway1-3-e1691760241395.jpg
END:VEVENT
BEGIN:VEVENT
DTSTART;TZID=America/Denver:20260601T190000
DTEND;TZID=America/Denver:20260601T203000
DTSTAMP:20260422T125458
CREATED:20260305T182818Z
LAST-MODIFIED:20260305T182818Z
UID:10009155-1780340400-1780345800@www.undercanvas.com
SUMMARY:Moab: Celestial Bracelet Making
DESCRIPTION:Create bracelets with celestial themed charms and beads.
URL:https://www.undercanvas.com/event/moab-celestial-bracelet-making/2026-06-01/
ATTACH;FMTTYPE=image/jpeg:/wp-content/uploads/2023/08/Yellowstone-Milkyway1-3-e1691760241395.jpg
END:VEVENT
BEGIN:VEVENT
DTSTART;TZID=America/Denver:20260608T190000
DTEND;TZID=America/Denver:20260608T203000
DTSTAMP:20260422T125458
CREATED:20260305T182818Z
LAST-MODIFIED:20260305T182818Z
UID:10009156-1780945200-1780950600@www.undercanvas.com
SUMMARY:Moab: Celestial Bracelet Making
DESCRIPTION:Create bracelets with celestial themed charms and beads.
URL:https://www.undercanvas.com/event/moab-celestial-bracelet-making/2026-06-08/
ATTACH;FMTTYPE=image/jpeg:/wp-content/uploads/2023/08/Yellowstone-Milkyway1-3-e1691760241395.jpg
END:VEVENT
BEGIN:VEVENT
DTSTART;TZID=America/Denver:20260615T190000
DTEND;TZID=America/Denver:20260615T203000
DTSTAMP:20260422T125458
CREATED:20260305T182818Z
LAST-MODIFIED:20260305T182818Z
UID:10009157-1781550000-1781555400@www.undercanvas.com
SUMMARY:Moab: Celestial Bracelet Making
DESCRIPTION:Create bracelets with celestial themed charms and beads.
URL:https://www.undercanvas.com/event/moab-celestial-bracelet-making/2026-06-15/
ATTACH;FMTTYPE=image/jpeg:/wp-content/uploads/2023/08/Yellowstone-Milkyway1-3-e1691760241395.jpg
END:VEVENT
BEGIN:VEVENT
DTSTART;TZID=America/Denver:20260622T190000
DTEND;TZID=America/Denver:20260622T203000
DTSTAMP:20260422T125458
CREATED:20260305T182818Z
LAST-MODIFIED:20260305T182818Z
UID:10009158-1782154800-1782160200@www.undercanvas.com
SUMMARY:Moab: Celestial Bracelet Making
DESCRIPTION:Create bracelets with celestial themed charms and beads.
URL:https://www.undercanvas.com/event/moab-celestial-bracelet-making/2026-06-22/
ATTACH;FMTTYPE=image/jpeg:/wp-content/uploads/2023/08/Yellowstone-Milkyway1-3-e1691760241395.jpg
END:VEVENT
BEGIN:VEVENT
DTSTART;TZID=America/Denver:20260629T190000
DTEND;TZID=America/Denver:20260629T203000
DTSTAMP:20260422T125458
CREATED:20260305T182818Z
LAST-MODIFIED:20260305T182818Z
UID:10009159-1782759600-1782765000@www.undercanvas.com
SUMMARY:Moab: Celestial Bracelet Making
DESCRIPTION:Create bracelets with celestial themed charms and beads.
URL:https://www.undercanvas.com/event/moab-celestial-bracelet-making/2026-06-29/
ATTACH;FMTTYPE=image/jpeg:/wp-content/uploads/2023/08/Yellowstone-Milkyway1-3-e1691760241395.jpg
END:VEVENT
BEGIN:VEVENT
DTSTART;TZID=America/Denver:20260706T190000
DTEND;TZID=America/Denver:20260706T203000
DTSTAMP:20260422T125458
CREATED:20260305T182818Z
LAST-MODIFIED:20260305T182818Z
UID:10009160-1783364400-1783369800@www.undercanvas.com
SUMMARY:Moab: Celestial Bracelet Making
DESCRIPTION:Create bracelets with celestial themed charms and beads.
URL:https://www.undercanvas.com/event/moab-celestial-bracelet-making/2026-07-06/
ATTACH;FMTTYPE=image/jpeg:/wp-content/uploads/2023/08/Yellowstone-Milkyway1-3-e1691760241395.jpg
END:VEVENT
BEGIN:VEVENT
DTSTART;TZID=America/Denver:20260713T190000
DTEND;TZID=America/Denver:20260713T203000
DTSTAMP:20260422T125458
CREATED:20260305T182818Z
LAST-MODIFIED:20260305T182818Z
UID:10009161-1783969200-1783974600@www.undercanvas.com
SUMMARY:Moab: Celestial Bracelet Making
DESCRIPTION:Create bracelets with celestial themed charms and beads.
URL:https://www.undercanvas.com/event/moab-celestial-bracelet-making/2026-07-13/
ATTACH;FMTTYPE=image/jpeg:/wp-content/uploads/2023/08/Yellowstone-Milkyway1-3-e1691760241395.jpg
END:VEVENT
BEGIN:VEVENT
DTSTART;TZID=America/Denver:20260720T190000
DTEND;TZID=America/Denver:20260720T203000
DTSTAMP:20260422T125458
CREATED:20260305T182818Z
LAST-MODIFIED:20260305T182818Z
UID:10009162-1784574000-1784579400@www.undercanvas.com
SUMMARY:Moab: Celestial Bracelet Making
DESCRIPTION:Create bracelets with celestial themed charms and beads.
URL:https://www.undercanvas.com/event/moab-celestial-bracelet-making/2026-07-20/
ATTACH;FMTTYPE=image/jpeg:/wp-content/uploads/2023/08/Yellowstone-Milkyway1-3-e1691760241395.jpg
END:VEVENT
BEGIN:VEVENT
DTSTART;TZID=America/Denver:20260727T190000
DTEND;TZID=America/Denver:20260727T203000
DTSTAMP:20260422T125458
CREATED:20260305T182818Z
LAST-MODIFIED:20260305T182818Z
UID:10009163-1785178800-1785184200@www.undercanvas.com
SUMMARY:Moab: Celestial Bracelet Making
DESCRIPTION:Create bracelets with celestial themed charms and beads.
URL:https://www.undercanvas.com/event/moab-celestial-bracelet-making/2026-07-27/
ATTACH;FMTTYPE=image/jpeg:/wp-content/uploads/2023/08/Yellowstone-Milkyway1-3-e1691760241395.jpg
END:VEVENT
BEGIN:VEVENT
DTSTART;TZID=America/Denver:20260803T190000
DTEND;TZID=America/Denver:20260803T203000
DTSTAMP:20260422T125458
CREATED:20260305T182818Z
LAST-MODIFIED:20260305T182818Z
UID:10009164-1785783600-1785789000@www.undercanvas.com
SUMMARY:Moab: Celestial Bracelet Making
DESCRIPTION:Create bracelets with celestial themed charms and beads.
URL:https://www.undercanvas.com/event/moab-celestial-bracelet-making/2026-08-03/
ATTACH;FMTTYPE=image/jpeg:/wp-content/uploads/2023/08/Yellowstone-Milkyway1-3-e1691760241395.jpg
END:VEVENT
BEGIN:VEVENT
DTSTART;TZID=America/Denver:20260810T190000
DTEND;TZID=America/Denver:20260810T203000
DTSTAMP:20260422T125458
CREATED:20260305T182818Z
LAST-MODIFIED:20260305T182818Z
UID:10009165-1786388400-1786393800@www.undercanvas.com
SUMMARY:Moab: Celestial Bracelet Making
DESCRIPTION:Create bracelets with celestial themed charms and beads.
URL:https://www.undercanvas.com/event/moab-celestial-bracelet-making/2026-08-10/
ATTACH;FMTTYPE=image/jpeg:/wp-content/uploads/2023/08/Yellowstone-Milkyway1-3-e1691760241395.jpg
END:VEVENT
BEGIN:VEVENT
DTSTART;TZID=America/Denver:20260817T190000
DTEND;TZID=America/Denver:20260817T203000
DTSTAMP:20260422T125458
CREATED:20260305T182818Z
LAST-MODIFIED:20260305T182818Z
UID:10009166-1786993200-1786998600@www.undercanvas.com
SUMMARY:Moab: Celestial Bracelet Making
DESCRIPTION:Create bracelets with celestial themed charms and beads.
URL:https://www.undercanvas.com/event/moab-celestial-bracelet-making/2026-08-17/
ATTACH;FMTTYPE=image/jpeg:/wp-content/uploads/2023/08/Yellowstone-Milkyway1-3-e1691760241395.jpg
END:VEVENT
BEGIN:VEVENT
DTSTART;TZID=America/Denver:20260824T190000
DTEND;TZID=America/Denver:20260824T203000
DTSTAMP:20260422T125458
CREATED:20260305T182818Z
LAST-MODIFIED:20260305T182818Z
UID:10009167-1787598000-1787603400@www.undercanvas.com
SUMMARY:Moab: Celestial Bracelet Making
DESCRIPTION:Create bracelets with celestial themed charms and beads.
URL:https://www.undercanvas.com/event/moab-celestial-bracelet-making/2026-08-24/
ATTACH;FMTTYPE=image/jpeg:/wp-content/uploads/2023/08/Yellowstone-Milkyway1-3-e1691760241395.jpg
END:VEVENT
BEGIN:VEVENT
DTSTART;TZID=America/Denver:20260831T190000
DTEND;TZID=America/Denver:20260831T203000
DTSTAMP:20260422T125458
CREATED:20260305T182818Z
LAST-MODIFIED:20260305T182818Z
UID:10009168-1788202800-1788208200@www.undercanvas.com
SUMMARY:Moab: Celestial Bracelet Making
DESCRIPTION:Create bracelets with celestial themed charms and beads.
URL:https://www.undercanvas.com/event/moab-celestial-bracelet-making/2026-08-31/
ATTACH;FMTTYPE=image/jpeg:/wp-content/uploads/2023/08/Yellowstone-Milkyway1-3-e1691760241395.jpg
END:VEVENT
BEGIN:VEVENT
DTSTART;TZID=America/Denver:20260907T190000
DTEND;TZID=America/Denver:20260907T203000
DTSTAMP:20260422T125458
CREATED:20260305T182818Z
LAST-MODIFIED:20260305T182818Z
UID:10009169-1788807600-1788813000@www.undercanvas.com
SUMMARY:Moab: Celestial Bracelet Making
DESCRIPTION:Create bracelets with celestial themed charms and beads.
URL:https://www.undercanvas.com/event/moab-celestial-bracelet-making/2026-09-07/
ATTACH;FMTTYPE=image/jpeg:/wp-content/uploads/2023/08/Yellowstone-Milkyway1-3-e1691760241395.jpg
END:VEVENT
BEGIN:VEVENT
DTSTART;TZID=America/Denver:20260914T190000
DTEND;TZID=America/Denver:20260914T203000
DTSTAMP:20260422T125458
CREATED:20260305T182818Z
LAST-MODIFIED:20260305T182818Z
UID:10009170-1789412400-1789417800@www.undercanvas.com
SUMMARY:Moab: Celestial Bracelet Making
DESCRIPTION:Create bracelets with celestial themed charms and beads.
URL:https://www.undercanvas.com/event/moab-celestial-bracelet-making/2026-09-14/
ATTACH;FMTTYPE=image/jpeg:/wp-content/uploads/2023/08/Yellowstone-Milkyway1-3-e1691760241395.jpg
END:VEVENT
BEGIN:VEVENT
DTSTART;TZID=America/Denver:20260921T190000
DTEND;TZID=America/Denver:20260921T203000
DTSTAMP:20260422T125458
CREATED:20260305T182818Z
LAST-MODIFIED:20260305T182818Z
UID:10009171-1790017200-1790022600@www.undercanvas.com
SUMMARY:Moab: Celestial Bracelet Making
DESCRIPTION:Create bracelets with celestial themed charms and beads.
URL:https://www.undercanvas.com/event/moab-celestial-bracelet-making/2026-09-21/
ATTACH;FMTTYPE=image/jpeg:/wp-content/uploads/2023/08/Yellowstone-Milkyway1-3-e1691760241395.jpg
END:VEVENT
BEGIN:VEVENT
DTSTART;TZID=America/Denver:20260928T190000
DTEND;TZID=America/Denver:20260928T203000
DTSTAMP:20260422T125458
CREATED:20260305T182818Z
LAST-MODIFIED:20260305T182818Z
UID:10009172-1790622000-1790627400@www.undercanvas.com
SUMMARY:Moab: Celestial Bracelet Making
DESCRIPTION:Create bracelets with celestial themed charms and beads.
URL:https://www.undercanvas.com/event/moab-celestial-bracelet-making/2026-09-28/
ATTACH;FMTTYPE=image/jpeg:/wp-content/uploads/2023/08/Yellowstone-Milkyway1-3-e1691760241395.jpg
END:VEVENT
BEGIN:VEVENT
DTSTART;TZID=America/Denver:20261005T190000
DTEND;TZID=America/Denver:20261005T203000
DTSTAMP:20260422T125458
CREATED:20260305T182818Z
LAST-MODIFIED:20260305T182818Z
UID:10009173-1791226800-1791232200@www.undercanvas.com
SUMMARY:Moab: Celestial Bracelet Making
DESCRIPTION:Create bracelets with celestial themed charms and beads.
URL:https://www.undercanvas.com/event/moab-celestial-bracelet-making/2026-10-05/
ATTACH;FMTTYPE=image/jpeg:/wp-content/uploads/2023/08/Yellowstone-Milkyway1-3-e1691760241395.jpg
END:VEVENT
BEGIN:VEVENT
DTSTART;TZID=America/Denver:20261012T190000
DTEND;TZID=America/Denver:20261012T203000
DTSTAMP:20260422T125458
CREATED:20260305T182818Z
LAST-MODIFIED:20260305T182818Z
UID:10009174-1791831600-1791837000@www.undercanvas.com
SUMMARY:Moab: Celestial Bracelet Making
DESCRIPTION:Create bracelets with celestial themed charms and beads.
URL:https://www.undercanvas.com/event/moab-celestial-bracelet-making/2026-10-12/
ATTACH;FMTTYPE=image/jpeg:/wp-content/uploads/2023/08/Yellowstone-Milkyway1-3-e1691760241395.jpg
END:VEVENT
BEGIN:VEVENT
DTSTART;TZID=America/Denver:20261019T190000
DTEND;TZID=America/Denver:20261019T203000
DTSTAMP:20260422T125458
CREATED:20260305T182818Z
LAST-MODIFIED:20260305T182818Z
UID:10009175-1792436400-1792441800@www.undercanvas.com
SUMMARY:Moab: Celestial Bracelet Making
DESCRIPTION:Create bracelets with celestial themed charms and beads.
URL:https://www.undercanvas.com/event/moab-celestial-bracelet-making/2026-10-19/
ATTACH;FMTTYPE=image/jpeg:/wp-content/uploads/2023/08/Yellowstone-Milkyway1-3-e1691760241395.jpg
END:VEVENT
END:VCALENDAR