BEGIN:VCALENDAR
VERSION:2.0
PRODID:-//Under Canvas® - ECPv6.15.18//NONSGML v1.0//EN
CALSCALE:GREGORIAN
METHOD:PUBLISH
X-WR-CALNAME:Under Canvas®
X-ORIGINAL-URL:https://www.undercanvas.com
X-WR-CALDESC:Events for Under Canvas®
REFRESH-INTERVAL;VALUE=DURATION:PT1H
X-Robots-Tag:noindex
X-PUBLISHED-TTL:PT1H
BEGIN:VTIMEZONE
TZID:America/New_York
BEGIN:DAYLIGHT
TZOFFSETFROM:-0500
TZOFFSETTO:-0400
TZNAME:EDT
DTSTART:20250309T070000
END:DAYLIGHT
BEGIN:STANDARD
TZOFFSETFROM:-0400
TZOFFSETTO:-0500
TZNAME:EST
DTSTART:20251102T060000
END:STANDARD
BEGIN:DAYLIGHT
TZOFFSETFROM:-0500
TZOFFSETTO:-0400
TZNAME:EDT
DTSTART:20260308T070000
END:DAYLIGHT
BEGIN:STANDARD
TZOFFSETFROM:-0400
TZOFFSETTO:-0500
TZNAME:EST
DTSTART:20261101T060000
END:STANDARD
BEGIN:DAYLIGHT
TZOFFSETFROM:-0500
TZOFFSETTO:-0400
TZNAME:EDT
DTSTART:20270314T070000
END:DAYLIGHT
BEGIN:STANDARD
TZOFFSETFROM:-0400
TZOFFSETTO:-0500
TZNAME:EST
DTSTART:20271107T060000
END:STANDARD
END:VTIMEZONE
BEGIN:VEVENT
DTSTART;TZID=America/New_York:20260604T190000
DTEND;TZID=America/New_York:20260604T200000
DTSTAMP:20260419T213213
CREATED:20260317T223452Z
LAST-MODIFIED:20260317T223452Z
UID:10009437-1780599600-1780603200@www.undercanvas.com
SUMMARY:Smoky Mountains: Campfire Americana Trivia
DESCRIPTION:Teams compete in trivia about: U.S. history\, national parks\, wildlife\, and famous explorers. The winning team will win a prize.
URL:https://www.undercanvas.com/event/smoky-mountains-campfire-americana-trivia/2026-06-04/
END:VEVENT
BEGIN:VEVENT
DTSTART;TZID=America/New_York:20260611T190000
DTEND;TZID=America/New_York:20260611T200000
DTSTAMP:20260419T213213
CREATED:20260317T223452Z
LAST-MODIFIED:20260317T223452Z
UID:10009438-1781204400-1781208000@www.undercanvas.com
SUMMARY:Smoky Mountains: Campfire Americana Trivia
DESCRIPTION:Teams compete in trivia about: U.S. history\, national parks\, wildlife\, and famous explorers. The winning team will win a prize.
URL:https://www.undercanvas.com/event/smoky-mountains-campfire-americana-trivia/2026-06-11/
END:VEVENT
BEGIN:VEVENT
DTSTART;TZID=America/New_York:20260618T190000
DTEND;TZID=America/New_York:20260618T200000
DTSTAMP:20260419T213213
CREATED:20260317T223452Z
LAST-MODIFIED:20260317T223452Z
UID:10009439-1781809200-1781812800@www.undercanvas.com
SUMMARY:Smoky Mountains: Campfire Americana Trivia
DESCRIPTION:Teams compete in trivia about: U.S. history\, national parks\, wildlife\, and famous explorers. The winning team will win a prize.
URL:https://www.undercanvas.com/event/smoky-mountains-campfire-americana-trivia/2026-06-18/
END:VEVENT
BEGIN:VEVENT
DTSTART;TZID=America/New_York:20260625T190000
DTEND;TZID=America/New_York:20260625T200000
DTSTAMP:20260419T213213
CREATED:20260317T223452Z
LAST-MODIFIED:20260317T223452Z
UID:10009440-1782414000-1782417600@www.undercanvas.com
SUMMARY:Smoky Mountains: Campfire Americana Trivia
DESCRIPTION:Teams compete in trivia about: U.S. history\, national parks\, wildlife\, and famous explorers. The winning team will win a prize.
URL:https://www.undercanvas.com/event/smoky-mountains-campfire-americana-trivia/2026-06-25/
END:VEVENT
BEGIN:VEVENT
DTSTART;TZID=America/New_York:20260702T190000
DTEND;TZID=America/New_York:20260702T200000
DTSTAMP:20260419T213213
CREATED:20260317T223452Z
LAST-MODIFIED:20260317T223452Z
UID:10009441-1783018800-1783022400@www.undercanvas.com
SUMMARY:Smoky Mountains: Campfire Americana Trivia
DESCRIPTION:Teams compete in trivia about: U.S. history\, national parks\, wildlife\, and famous explorers. The winning team will win a prize.
URL:https://www.undercanvas.com/event/smoky-mountains-campfire-americana-trivia/2026-07-02/
END:VEVENT
BEGIN:VEVENT
DTSTART;TZID=America/New_York:20260709T190000
DTEND;TZID=America/New_York:20260709T200000
DTSTAMP:20260419T213213
CREATED:20260317T223452Z
LAST-MODIFIED:20260317T223452Z
UID:10009442-1783623600-1783627200@www.undercanvas.com
SUMMARY:Smoky Mountains: Campfire Americana Trivia
DESCRIPTION:Teams compete in trivia about: U.S. history\, national parks\, wildlife\, and famous explorers. The winning team will win a prize.
URL:https://www.undercanvas.com/event/smoky-mountains-campfire-americana-trivia/2026-07-09/
END:VEVENT
BEGIN:VEVENT
DTSTART;TZID=America/New_York:20260716T190000
DTEND;TZID=America/New_York:20260716T200000
DTSTAMP:20260419T213213
CREATED:20260317T223452Z
LAST-MODIFIED:20260317T223452Z
UID:10009443-1784228400-1784232000@www.undercanvas.com
SUMMARY:Smoky Mountains: Campfire Americana Trivia
DESCRIPTION:Teams compete in trivia about: U.S. history\, national parks\, wildlife\, and famous explorers. The winning team will win a prize.
URL:https://www.undercanvas.com/event/smoky-mountains-campfire-americana-trivia/2026-07-16/
END:VEVENT
BEGIN:VEVENT
DTSTART;TZID=America/New_York:20260723T190000
DTEND;TZID=America/New_York:20260723T200000
DTSTAMP:20260419T213213
CREATED:20260317T223452Z
LAST-MODIFIED:20260317T223452Z
UID:10009444-1784833200-1784836800@www.undercanvas.com
SUMMARY:Smoky Mountains: Campfire Americana Trivia
DESCRIPTION:Teams compete in trivia about: U.S. history\, national parks\, wildlife\, and famous explorers. The winning team will win a prize.
URL:https://www.undercanvas.com/event/smoky-mountains-campfire-americana-trivia/2026-07-23/
END:VEVENT
BEGIN:VEVENT
DTSTART;TZID=America/New_York:20260730T190000
DTEND;TZID=America/New_York:20260730T200000
DTSTAMP:20260419T213213
CREATED:20260317T223452Z
LAST-MODIFIED:20260317T223452Z
UID:10009445-1785438000-1785441600@www.undercanvas.com
SUMMARY:Smoky Mountains: Campfire Americana Trivia
DESCRIPTION:Teams compete in trivia about: U.S. history\, national parks\, wildlife\, and famous explorers. The winning team will win a prize.
URL:https://www.undercanvas.com/event/smoky-mountains-campfire-americana-trivia/2026-07-30/
END:VEVENT
BEGIN:VEVENT
DTSTART;TZID=America/New_York:20260806T190000
DTEND;TZID=America/New_York:20260806T200000
DTSTAMP:20260419T213213
CREATED:20260317T223452Z
LAST-MODIFIED:20260317T223452Z
UID:10009446-1786042800-1786046400@www.undercanvas.com
SUMMARY:Smoky Mountains: Campfire Americana Trivia
DESCRIPTION:Teams compete in trivia about: U.S. history\, national parks\, wildlife\, and famous explorers. The winning team will win a prize.
URL:https://www.undercanvas.com/event/smoky-mountains-campfire-americana-trivia/2026-08-06/
END:VEVENT
BEGIN:VEVENT
DTSTART;TZID=America/New_York:20260813T190000
DTEND;TZID=America/New_York:20260813T200000
DTSTAMP:20260419T213213
CREATED:20260317T223452Z
LAST-MODIFIED:20260317T223452Z
UID:10009447-1786647600-1786651200@www.undercanvas.com
SUMMARY:Smoky Mountains: Campfire Americana Trivia
DESCRIPTION:Teams compete in trivia about: U.S. history\, national parks\, wildlife\, and famous explorers. The winning team will win a prize.
URL:https://www.undercanvas.com/event/smoky-mountains-campfire-americana-trivia/2026-08-13/
END:VEVENT
BEGIN:VEVENT
DTSTART;TZID=America/New_York:20260820T190000
DTEND;TZID=America/New_York:20260820T200000
DTSTAMP:20260419T213213
CREATED:20260317T223452Z
LAST-MODIFIED:20260317T223452Z
UID:10009448-1787252400-1787256000@www.undercanvas.com
SUMMARY:Smoky Mountains: Campfire Americana Trivia
DESCRIPTION:Teams compete in trivia about: U.S. history\, national parks\, wildlife\, and famous explorers. The winning team will win a prize.
URL:https://www.undercanvas.com/event/smoky-mountains-campfire-americana-trivia/2026-08-20/
END:VEVENT
BEGIN:VEVENT
DTSTART;TZID=America/New_York:20260827T190000
DTEND;TZID=America/New_York:20260827T200000
DTSTAMP:20260419T213213
CREATED:20260317T223452Z
LAST-MODIFIED:20260317T223452Z
UID:10009449-1787857200-1787860800@www.undercanvas.com
SUMMARY:Smoky Mountains: Campfire Americana Trivia
DESCRIPTION:Teams compete in trivia about: U.S. history\, national parks\, wildlife\, and famous explorers. The winning team will win a prize.
URL:https://www.undercanvas.com/event/smoky-mountains-campfire-americana-trivia/2026-08-27/
END:VEVENT
BEGIN:VEVENT
DTSTART;TZID=America/New_York:20260903T190000
DTEND;TZID=America/New_York:20260903T200000
DTSTAMP:20260419T213213
CREATED:20260317T223452Z
LAST-MODIFIED:20260317T223452Z
UID:10009450-1788462000-1788465600@www.undercanvas.com
SUMMARY:Smoky Mountains: Campfire Americana Trivia
DESCRIPTION:Teams compete in trivia about: U.S. history\, national parks\, wildlife\, and famous explorers. The winning team will win a prize.
URL:https://www.undercanvas.com/event/smoky-mountains-campfire-americana-trivia/2026-09-03/
END:VEVENT
BEGIN:VEVENT
DTSTART;TZID=America/New_York:20260910T190000
DTEND;TZID=America/New_York:20260910T200000
DTSTAMP:20260419T213213
CREATED:20260317T223452Z
LAST-MODIFIED:20260317T223452Z
UID:10009451-1789066800-1789070400@www.undercanvas.com
SUMMARY:Smoky Mountains: Campfire Americana Trivia
DESCRIPTION:Teams compete in trivia about: U.S. history\, national parks\, wildlife\, and famous explorers. The winning team will win a prize.
URL:https://www.undercanvas.com/event/smoky-mountains-campfire-americana-trivia/2026-09-10/
END:VEVENT
BEGIN:VEVENT
DTSTART;TZID=America/New_York:20260917T190000
DTEND;TZID=America/New_York:20260917T200000
DTSTAMP:20260419T213213
CREATED:20260317T223452Z
LAST-MODIFIED:20260317T223452Z
UID:10009452-1789671600-1789675200@www.undercanvas.com
SUMMARY:Smoky Mountains: Campfire Americana Trivia
DESCRIPTION:Teams compete in trivia about: U.S. history\, national parks\, wildlife\, and famous explorers. The winning team will win a prize.
URL:https://www.undercanvas.com/event/smoky-mountains-campfire-americana-trivia/2026-09-17/
END:VEVENT
BEGIN:VEVENT
DTSTART;TZID=America/New_York:20260924T190000
DTEND;TZID=America/New_York:20260924T200000
DTSTAMP:20260419T213213
CREATED:20260317T223452Z
LAST-MODIFIED:20260317T223452Z
UID:10009453-1790276400-1790280000@www.undercanvas.com
SUMMARY:Smoky Mountains: Campfire Americana Trivia
DESCRIPTION:Teams compete in trivia about: U.S. history\, national parks\, wildlife\, and famous explorers. The winning team will win a prize.
URL:https://www.undercanvas.com/event/smoky-mountains-campfire-americana-trivia/2026-09-24/
END:VEVENT
BEGIN:VEVENT
DTSTART;TZID=America/New_York:20261001T190000
DTEND;TZID=America/New_York:20261001T200000
DTSTAMP:20260419T213213
CREATED:20260317T223452Z
LAST-MODIFIED:20260317T223452Z
UID:10009454-1790881200-1790884800@www.undercanvas.com
SUMMARY:Smoky Mountains: Campfire Americana Trivia
DESCRIPTION:Teams compete in trivia about: U.S. history\, national parks\, wildlife\, and famous explorers. The winning team will win a prize.
URL:https://www.undercanvas.com/event/smoky-mountains-campfire-americana-trivia/2026-10-01/
END:VEVENT
BEGIN:VEVENT
DTSTART;TZID=America/New_York:20261008T190000
DTEND;TZID=America/New_York:20261008T200000
DTSTAMP:20260419T213213
CREATED:20260317T223452Z
LAST-MODIFIED:20260317T223452Z
UID:10009455-1791486000-1791489600@www.undercanvas.com
SUMMARY:Smoky Mountains: Campfire Americana Trivia
DESCRIPTION:Teams compete in trivia about: U.S. history\, national parks\, wildlife\, and famous explorers. The winning team will win a prize.
URL:https://www.undercanvas.com/event/smoky-mountains-campfire-americana-trivia/2026-10-08/
END:VEVENT
BEGIN:VEVENT
DTSTART;TZID=America/New_York:20261015T190000
DTEND;TZID=America/New_York:20261015T200000
DTSTAMP:20260419T213213
CREATED:20260317T223452Z
LAST-MODIFIED:20260317T223452Z
UID:10009456-1792090800-1792094400@www.undercanvas.com
SUMMARY:Smoky Mountains: Campfire Americana Trivia
DESCRIPTION:Teams compete in trivia about: U.S. history\, national parks\, wildlife\, and famous explorers. The winning team will win a prize.
URL:https://www.undercanvas.com/event/smoky-mountains-campfire-americana-trivia/2026-10-15/
END:VEVENT
BEGIN:VEVENT
DTSTART;TZID=America/New_York:20261022T190000
DTEND;TZID=America/New_York:20261022T200000
DTSTAMP:20260419T213213
CREATED:20260317T223452Z
LAST-MODIFIED:20260317T223452Z
UID:10009457-1792695600-1792699200@www.undercanvas.com
SUMMARY:Smoky Mountains: Campfire Americana Trivia
DESCRIPTION:Teams compete in trivia about: U.S. history\, national parks\, wildlife\, and famous explorers. The winning team will win a prize.
URL:https://www.undercanvas.com/event/smoky-mountains-campfire-americana-trivia/2026-10-22/
END:VEVENT
BEGIN:VEVENT
DTSTART;TZID=America/New_York:20261029T190000
DTEND;TZID=America/New_York:20261029T200000
DTSTAMP:20260419T213213
CREATED:20260317T223452Z
LAST-MODIFIED:20260317T223452Z
UID:10009458-1793300400-1793304000@www.undercanvas.com
SUMMARY:Smoky Mountains: Campfire Americana Trivia
DESCRIPTION:Teams compete in trivia about: U.S. history\, national parks\, wildlife\, and famous explorers. The winning team will win a prize.
URL:https://www.undercanvas.com/event/smoky-mountains-campfire-americana-trivia/2026-10-29/
END:VEVENT
BEGIN:VEVENT
DTSTART;TZID=America/New_York:20261105T190000
DTEND;TZID=America/New_York:20261105T200000
DTSTAMP:20260419T213213
CREATED:20260317T223452Z
LAST-MODIFIED:20260317T223452Z
UID:10009459-1793905200-1793908800@www.undercanvas.com
SUMMARY:Smoky Mountains: Campfire Americana Trivia
DESCRIPTION:Teams compete in trivia about: U.S. history\, national parks\, wildlife\, and famous explorers. The winning team will win a prize.
URL:https://www.undercanvas.com/event/smoky-mountains-campfire-americana-trivia/2026-11-05/
END:VEVENT
BEGIN:VEVENT
DTSTART;TZID=America/New_York:20261112T190000
DTEND;TZID=America/New_York:20261112T200000
DTSTAMP:20260419T213213
CREATED:20260317T223452Z
LAST-MODIFIED:20260317T223452Z
UID:10009460-1794510000-1794513600@www.undercanvas.com
SUMMARY:Smoky Mountains: Campfire Americana Trivia
DESCRIPTION:Teams compete in trivia about: U.S. history\, national parks\, wildlife\, and famous explorers. The winning team will win a prize.
URL:https://www.undercanvas.com/event/smoky-mountains-campfire-americana-trivia/2026-11-12/
END:VEVENT
BEGIN:VEVENT
DTSTART;TZID=America/New_York:20261119T190000
DTEND;TZID=America/New_York:20261119T200000
DTSTAMP:20260419T213213
CREATED:20260317T223452Z
LAST-MODIFIED:20260317T223452Z
UID:10009461-1795114800-1795118400@www.undercanvas.com
SUMMARY:Smoky Mountains: Campfire Americana Trivia
DESCRIPTION:Teams compete in trivia about: U.S. history\, national parks\, wildlife\, and famous explorers. The winning team will win a prize.
URL:https://www.undercanvas.com/event/smoky-mountains-campfire-americana-trivia/2026-11-19/
END:VEVENT
BEGIN:VEVENT
DTSTART;TZID=America/New_York:20261126T190000
DTEND;TZID=America/New_York:20261126T200000
DTSTAMP:20260419T213213
CREATED:20260317T223452Z
LAST-MODIFIED:20260317T223452Z
UID:10009462-1795719600-1795723200@www.undercanvas.com
SUMMARY:Smoky Mountains: Campfire Americana Trivia
DESCRIPTION:Teams compete in trivia about: U.S. history\, national parks\, wildlife\, and famous explorers. The winning team will win a prize.
URL:https://www.undercanvas.com/event/smoky-mountains-campfire-americana-trivia/2026-11-26/
END:VEVENT
BEGIN:VEVENT
DTSTART;TZID=America/New_York:20261203T190000
DTEND;TZID=America/New_York:20261203T200000
DTSTAMP:20260419T213213
CREATED:20260317T223452Z
LAST-MODIFIED:20260317T223452Z
UID:10009463-1796324400-1796328000@www.undercanvas.com
SUMMARY:Smoky Mountains: Campfire Americana Trivia
DESCRIPTION:Teams compete in trivia about: U.S. history\, national parks\, wildlife\, and famous explorers. The winning team will win a prize.
URL:https://www.undercanvas.com/event/smoky-mountains-campfire-americana-trivia/2026-12-03/
END:VEVENT
BEGIN:VEVENT
DTSTART;TZID=America/New_York:20261210T190000
DTEND;TZID=America/New_York:20261210T200000
DTSTAMP:20260419T213213
CREATED:20260317T223452Z
LAST-MODIFIED:20260317T223452Z
UID:10009464-1796929200-1796932800@www.undercanvas.com
SUMMARY:Smoky Mountains: Campfire Americana Trivia
DESCRIPTION:Teams compete in trivia about: U.S. history\, national parks\, wildlife\, and famous explorers. The winning team will win a prize.
URL:https://www.undercanvas.com/event/smoky-mountains-campfire-americana-trivia/2026-12-10/
END:VEVENT
BEGIN:VEVENT
DTSTART;TZID=America/New_York:20261217T190000
DTEND;TZID=America/New_York:20261217T200000
DTSTAMP:20260419T213213
CREATED:20260317T223452Z
LAST-MODIFIED:20260317T223452Z
UID:10009465-1797534000-1797537600@www.undercanvas.com
SUMMARY:Smoky Mountains: Campfire Americana Trivia
DESCRIPTION:Teams compete in trivia about: U.S. history\, national parks\, wildlife\, and famous explorers. The winning team will win a prize.
URL:https://www.undercanvas.com/event/smoky-mountains-campfire-americana-trivia/2026-12-17/
END:VEVENT
BEGIN:VEVENT
DTSTART;TZID=America/New_York:20261224T190000
DTEND;TZID=America/New_York:20261224T200000
DTSTAMP:20260419T213213
CREATED:20260317T223452Z
LAST-MODIFIED:20260317T223452Z
UID:10009466-1798138800-1798142400@www.undercanvas.com
SUMMARY:Smoky Mountains: Campfire Americana Trivia
DESCRIPTION:Teams compete in trivia about: U.S. history\, national parks\, wildlife\, and famous explorers. The winning team will win a prize.
URL:https://www.undercanvas.com/event/smoky-mountains-campfire-americana-trivia/2026-12-24/
END:VEVENT
END:VCALENDAR