BEGIN:VCALENDAR
VERSION:2.0
PRODID:-//Under Canvas® - ECPv6.15.18//NONSGML v1.0//EN
CALSCALE:GREGORIAN
METHOD:PUBLISH
X-WR-CALNAME:Under Canvas®
X-ORIGINAL-URL:https://www.undercanvas.com
X-WR-CALDESC:Events for Under Canvas®
REFRESH-INTERVAL;VALUE=DURATION:PT1H
X-Robots-Tag:noindex
X-PUBLISHED-TTL:PT1H
BEGIN:VTIMEZONE
TZID:America/Denver
BEGIN:DAYLIGHT
TZOFFSETFROM:-0700
TZOFFSETTO:-0600
TZNAME:MDT
DTSTART:20250309T090000
END:DAYLIGHT
BEGIN:STANDARD
TZOFFSETFROM:-0600
TZOFFSETTO:-0700
TZNAME:MST
DTSTART:20251102T080000
END:STANDARD
BEGIN:DAYLIGHT
TZOFFSETFROM:-0700
TZOFFSETTO:-0600
TZNAME:MDT
DTSTART:20260308T090000
END:DAYLIGHT
BEGIN:STANDARD
TZOFFSETFROM:-0600
TZOFFSETTO:-0700
TZNAME:MST
DTSTART:20261101T080000
END:STANDARD
BEGIN:DAYLIGHT
TZOFFSETFROM:-0700
TZOFFSETTO:-0600
TZNAME:MDT
DTSTART:20270314T090000
END:DAYLIGHT
BEGIN:STANDARD
TZOFFSETFROM:-0600
TZOFFSETTO:-0700
TZNAME:MST
DTSTART:20271107T080000
END:STANDARD
END:VTIMEZONE
BEGIN:VEVENT
DTSTART;TZID=America/Denver:20260421T200000
DTEND;TZID=America/Denver:20260421T220000
DTSTAMP:20260419T183739
CREATED:20260323T220811Z
LAST-MODIFIED:20260323T220811Z
UID:10009825-1776801600-1776808800@www.undercanvas.com
SUMMARY:Grand Canyon: Night Sky Scavenger Hunt
DESCRIPTION:Night sky themed scavenger hunt
URL:https://www.undercanvas.com/event/grand-canyon-night-sky-scavenger-hunt/2026-04-21/
ATTACH;FMTTYPE=image/jpeg:/wp-content/uploads/2023/11/UCMilkyway-3.jpg
END:VEVENT
BEGIN:VEVENT
DTSTART;TZID=America/Denver:20260428T200000
DTEND;TZID=America/Denver:20260428T220000
DTSTAMP:20260419T183739
CREATED:20260323T220811Z
LAST-MODIFIED:20260323T220811Z
UID:10009826-1777406400-1777413600@www.undercanvas.com
SUMMARY:Grand Canyon: Night Sky Scavenger Hunt
DESCRIPTION:Night sky themed scavenger hunt
URL:https://www.undercanvas.com/event/grand-canyon-night-sky-scavenger-hunt/2026-04-28/
ATTACH;FMTTYPE=image/jpeg:/wp-content/uploads/2023/11/UCMilkyway-3.jpg
END:VEVENT
BEGIN:VEVENT
DTSTART;TZID=America/Denver:20260505T200000
DTEND;TZID=America/Denver:20260505T220000
DTSTAMP:20260419T183739
CREATED:20260323T220811Z
LAST-MODIFIED:20260323T220811Z
UID:10009827-1778011200-1778018400@www.undercanvas.com
SUMMARY:Grand Canyon: Night Sky Scavenger Hunt
DESCRIPTION:Night sky themed scavenger hunt
URL:https://www.undercanvas.com/event/grand-canyon-night-sky-scavenger-hunt/2026-05-05/
ATTACH;FMTTYPE=image/jpeg:/wp-content/uploads/2023/11/UCMilkyway-3.jpg
END:VEVENT
BEGIN:VEVENT
DTSTART;TZID=America/Denver:20260512T200000
DTEND;TZID=America/Denver:20260512T220000
DTSTAMP:20260419T183739
CREATED:20260323T220811Z
LAST-MODIFIED:20260323T220811Z
UID:10009828-1778616000-1778623200@www.undercanvas.com
SUMMARY:Grand Canyon: Night Sky Scavenger Hunt
DESCRIPTION:Night sky themed scavenger hunt
URL:https://www.undercanvas.com/event/grand-canyon-night-sky-scavenger-hunt/2026-05-12/
ATTACH;FMTTYPE=image/jpeg:/wp-content/uploads/2023/11/UCMilkyway-3.jpg
END:VEVENT
BEGIN:VEVENT
DTSTART;TZID=America/Denver:20260519T200000
DTEND;TZID=America/Denver:20260519T220000
DTSTAMP:20260419T183739
CREATED:20260323T220811Z
LAST-MODIFIED:20260323T220811Z
UID:10009829-1779220800-1779228000@www.undercanvas.com
SUMMARY:Grand Canyon: Night Sky Scavenger Hunt
DESCRIPTION:Night sky themed scavenger hunt
URL:https://www.undercanvas.com/event/grand-canyon-night-sky-scavenger-hunt/2026-05-19/
ATTACH;FMTTYPE=image/jpeg:/wp-content/uploads/2023/11/UCMilkyway-3.jpg
END:VEVENT
BEGIN:VEVENT
DTSTART;TZID=America/Denver:20260526T200000
DTEND;TZID=America/Denver:20260526T220000
DTSTAMP:20260419T183739
CREATED:20260323T220811Z
LAST-MODIFIED:20260323T220811Z
UID:10009830-1779825600-1779832800@www.undercanvas.com
SUMMARY:Grand Canyon: Night Sky Scavenger Hunt
DESCRIPTION:Night sky themed scavenger hunt
URL:https://www.undercanvas.com/event/grand-canyon-night-sky-scavenger-hunt/2026-05-26/
ATTACH;FMTTYPE=image/jpeg:/wp-content/uploads/2023/11/UCMilkyway-3.jpg
END:VEVENT
BEGIN:VEVENT
DTSTART;TZID=America/Denver:20260602T200000
DTEND;TZID=America/Denver:20260602T220000
DTSTAMP:20260419T183739
CREATED:20260323T220811Z
LAST-MODIFIED:20260323T220811Z
UID:10009831-1780430400-1780437600@www.undercanvas.com
SUMMARY:Grand Canyon: Night Sky Scavenger Hunt
DESCRIPTION:Night sky themed scavenger hunt
URL:https://www.undercanvas.com/event/grand-canyon-night-sky-scavenger-hunt/2026-06-02/
ATTACH;FMTTYPE=image/jpeg:/wp-content/uploads/2023/11/UCMilkyway-3.jpg
END:VEVENT
BEGIN:VEVENT
DTSTART;TZID=America/Denver:20260609T200000
DTEND;TZID=America/Denver:20260609T220000
DTSTAMP:20260419T183739
CREATED:20260323T220811Z
LAST-MODIFIED:20260323T220811Z
UID:10009832-1781035200-1781042400@www.undercanvas.com
SUMMARY:Grand Canyon: Night Sky Scavenger Hunt
DESCRIPTION:Night sky themed scavenger hunt
URL:https://www.undercanvas.com/event/grand-canyon-night-sky-scavenger-hunt/2026-06-09/
ATTACH;FMTTYPE=image/jpeg:/wp-content/uploads/2023/11/UCMilkyway-3.jpg
END:VEVENT
BEGIN:VEVENT
DTSTART;TZID=America/Denver:20260616T200000
DTEND;TZID=America/Denver:20260616T220000
DTSTAMP:20260419T183739
CREATED:20260323T220811Z
LAST-MODIFIED:20260323T220811Z
UID:10009833-1781640000-1781647200@www.undercanvas.com
SUMMARY:Grand Canyon: Night Sky Scavenger Hunt
DESCRIPTION:Night sky themed scavenger hunt
URL:https://www.undercanvas.com/event/grand-canyon-night-sky-scavenger-hunt/2026-06-16/
ATTACH;FMTTYPE=image/jpeg:/wp-content/uploads/2023/11/UCMilkyway-3.jpg
END:VEVENT
BEGIN:VEVENT
DTSTART;TZID=America/Denver:20260623T200000
DTEND;TZID=America/Denver:20260623T220000
DTSTAMP:20260419T183739
CREATED:20260323T220811Z
LAST-MODIFIED:20260323T220811Z
UID:10009834-1782244800-1782252000@www.undercanvas.com
SUMMARY:Grand Canyon: Night Sky Scavenger Hunt
DESCRIPTION:Night sky themed scavenger hunt
URL:https://www.undercanvas.com/event/grand-canyon-night-sky-scavenger-hunt/2026-06-23/
ATTACH;FMTTYPE=image/jpeg:/wp-content/uploads/2023/11/UCMilkyway-3.jpg
END:VEVENT
BEGIN:VEVENT
DTSTART;TZID=America/Denver:20260630T200000
DTEND;TZID=America/Denver:20260630T220000
DTSTAMP:20260419T183739
CREATED:20260323T220811Z
LAST-MODIFIED:20260323T220811Z
UID:10009835-1782849600-1782856800@www.undercanvas.com
SUMMARY:Grand Canyon: Night Sky Scavenger Hunt
DESCRIPTION:Night sky themed scavenger hunt
URL:https://www.undercanvas.com/event/grand-canyon-night-sky-scavenger-hunt/2026-06-30/
ATTACH;FMTTYPE=image/jpeg:/wp-content/uploads/2023/11/UCMilkyway-3.jpg
END:VEVENT
BEGIN:VEVENT
DTSTART;TZID=America/Denver:20260707T200000
DTEND;TZID=America/Denver:20260707T220000
DTSTAMP:20260419T183739
CREATED:20260323T220811Z
LAST-MODIFIED:20260323T220811Z
UID:10009836-1783454400-1783461600@www.undercanvas.com
SUMMARY:Grand Canyon: Night Sky Scavenger Hunt
DESCRIPTION:Night sky themed scavenger hunt
URL:https://www.undercanvas.com/event/grand-canyon-night-sky-scavenger-hunt/2026-07-07/
ATTACH;FMTTYPE=image/jpeg:/wp-content/uploads/2023/11/UCMilkyway-3.jpg
END:VEVENT
BEGIN:VEVENT
DTSTART;TZID=America/Denver:20260714T200000
DTEND;TZID=America/Denver:20260714T220000
DTSTAMP:20260419T183739
CREATED:20260323T220811Z
LAST-MODIFIED:20260323T220811Z
UID:10009837-1784059200-1784066400@www.undercanvas.com
SUMMARY:Grand Canyon: Night Sky Scavenger Hunt
DESCRIPTION:Night sky themed scavenger hunt
URL:https://www.undercanvas.com/event/grand-canyon-night-sky-scavenger-hunt/2026-07-14/
ATTACH;FMTTYPE=image/jpeg:/wp-content/uploads/2023/11/UCMilkyway-3.jpg
END:VEVENT
BEGIN:VEVENT
DTSTART;TZID=America/Denver:20260721T200000
DTEND;TZID=America/Denver:20260721T220000
DTSTAMP:20260419T183739
CREATED:20260323T220811Z
LAST-MODIFIED:20260323T220811Z
UID:10009838-1784664000-1784671200@www.undercanvas.com
SUMMARY:Grand Canyon: Night Sky Scavenger Hunt
DESCRIPTION:Night sky themed scavenger hunt
URL:https://www.undercanvas.com/event/grand-canyon-night-sky-scavenger-hunt/2026-07-21/
ATTACH;FMTTYPE=image/jpeg:/wp-content/uploads/2023/11/UCMilkyway-3.jpg
END:VEVENT
BEGIN:VEVENT
DTSTART;TZID=America/Denver:20260728T200000
DTEND;TZID=America/Denver:20260728T220000
DTSTAMP:20260419T183739
CREATED:20260323T220811Z
LAST-MODIFIED:20260323T220811Z
UID:10009839-1785268800-1785276000@www.undercanvas.com
SUMMARY:Grand Canyon: Night Sky Scavenger Hunt
DESCRIPTION:Night sky themed scavenger hunt
URL:https://www.undercanvas.com/event/grand-canyon-night-sky-scavenger-hunt/2026-07-28/
ATTACH;FMTTYPE=image/jpeg:/wp-content/uploads/2023/11/UCMilkyway-3.jpg
END:VEVENT
BEGIN:VEVENT
DTSTART;TZID=America/Denver:20260804T200000
DTEND;TZID=America/Denver:20260804T220000
DTSTAMP:20260419T183739
CREATED:20260323T220811Z
LAST-MODIFIED:20260323T220811Z
UID:10009840-1785873600-1785880800@www.undercanvas.com
SUMMARY:Grand Canyon: Night Sky Scavenger Hunt
DESCRIPTION:Night sky themed scavenger hunt
URL:https://www.undercanvas.com/event/grand-canyon-night-sky-scavenger-hunt/2026-08-04/
ATTACH;FMTTYPE=image/jpeg:/wp-content/uploads/2023/11/UCMilkyway-3.jpg
END:VEVENT
BEGIN:VEVENT
DTSTART;TZID=America/Denver:20260811T200000
DTEND;TZID=America/Denver:20260811T220000
DTSTAMP:20260419T183739
CREATED:20260323T220811Z
LAST-MODIFIED:20260323T220811Z
UID:10009841-1786478400-1786485600@www.undercanvas.com
SUMMARY:Grand Canyon: Night Sky Scavenger Hunt
DESCRIPTION:Night sky themed scavenger hunt
URL:https://www.undercanvas.com/event/grand-canyon-night-sky-scavenger-hunt/2026-08-11/
ATTACH;FMTTYPE=image/jpeg:/wp-content/uploads/2023/11/UCMilkyway-3.jpg
END:VEVENT
BEGIN:VEVENT
DTSTART;TZID=America/Denver:20260818T200000
DTEND;TZID=America/Denver:20260818T220000
DTSTAMP:20260419T183739
CREATED:20260323T220811Z
LAST-MODIFIED:20260323T220811Z
UID:10009842-1787083200-1787090400@www.undercanvas.com
SUMMARY:Grand Canyon: Night Sky Scavenger Hunt
DESCRIPTION:Night sky themed scavenger hunt
URL:https://www.undercanvas.com/event/grand-canyon-night-sky-scavenger-hunt/2026-08-18/
ATTACH;FMTTYPE=image/jpeg:/wp-content/uploads/2023/11/UCMilkyway-3.jpg
END:VEVENT
BEGIN:VEVENT
DTSTART;TZID=America/Denver:20260825T200000
DTEND;TZID=America/Denver:20260825T220000
DTSTAMP:20260419T183739
CREATED:20260323T220811Z
LAST-MODIFIED:20260323T220811Z
UID:10009843-1787688000-1787695200@www.undercanvas.com
SUMMARY:Grand Canyon: Night Sky Scavenger Hunt
DESCRIPTION:Night sky themed scavenger hunt
URL:https://www.undercanvas.com/event/grand-canyon-night-sky-scavenger-hunt/2026-08-25/
ATTACH;FMTTYPE=image/jpeg:/wp-content/uploads/2023/11/UCMilkyway-3.jpg
END:VEVENT
BEGIN:VEVENT
DTSTART;TZID=America/Denver:20260901T200000
DTEND;TZID=America/Denver:20260901T220000
DTSTAMP:20260419T183739
CREATED:20260323T220811Z
LAST-MODIFIED:20260323T220811Z
UID:10009844-1788292800-1788300000@www.undercanvas.com
SUMMARY:Grand Canyon: Night Sky Scavenger Hunt
DESCRIPTION:Night sky themed scavenger hunt
URL:https://www.undercanvas.com/event/grand-canyon-night-sky-scavenger-hunt/2026-09-01/
ATTACH;FMTTYPE=image/jpeg:/wp-content/uploads/2023/11/UCMilkyway-3.jpg
END:VEVENT
BEGIN:VEVENT
DTSTART;TZID=America/Denver:20260908T200000
DTEND;TZID=America/Denver:20260908T220000
DTSTAMP:20260419T183739
CREATED:20260323T220811Z
LAST-MODIFIED:20260323T220811Z
UID:10009845-1788897600-1788904800@www.undercanvas.com
SUMMARY:Grand Canyon: Night Sky Scavenger Hunt
DESCRIPTION:Night sky themed scavenger hunt
URL:https://www.undercanvas.com/event/grand-canyon-night-sky-scavenger-hunt/2026-09-08/
ATTACH;FMTTYPE=image/jpeg:/wp-content/uploads/2023/11/UCMilkyway-3.jpg
END:VEVENT
BEGIN:VEVENT
DTSTART;TZID=America/Denver:20260915T200000
DTEND;TZID=America/Denver:20260915T220000
DTSTAMP:20260419T183739
CREATED:20260323T220811Z
LAST-MODIFIED:20260323T220811Z
UID:10009846-1789502400-1789509600@www.undercanvas.com
SUMMARY:Grand Canyon: Night Sky Scavenger Hunt
DESCRIPTION:Night sky themed scavenger hunt
URL:https://www.undercanvas.com/event/grand-canyon-night-sky-scavenger-hunt/2026-09-15/
ATTACH;FMTTYPE=image/jpeg:/wp-content/uploads/2023/11/UCMilkyway-3.jpg
END:VEVENT
BEGIN:VEVENT
DTSTART;TZID=America/Denver:20260922T200000
DTEND;TZID=America/Denver:20260922T220000
DTSTAMP:20260419T183739
CREATED:20260323T220811Z
LAST-MODIFIED:20260323T220811Z
UID:10009847-1790107200-1790114400@www.undercanvas.com
SUMMARY:Grand Canyon: Night Sky Scavenger Hunt
DESCRIPTION:Night sky themed scavenger hunt
URL:https://www.undercanvas.com/event/grand-canyon-night-sky-scavenger-hunt/2026-09-22/
ATTACH;FMTTYPE=image/jpeg:/wp-content/uploads/2023/11/UCMilkyway-3.jpg
END:VEVENT
BEGIN:VEVENT
DTSTART;TZID=America/Denver:20260929T200000
DTEND;TZID=America/Denver:20260929T220000
DTSTAMP:20260419T183739
CREATED:20260323T220811Z
LAST-MODIFIED:20260323T220811Z
UID:10009848-1790712000-1790719200@www.undercanvas.com
SUMMARY:Grand Canyon: Night Sky Scavenger Hunt
DESCRIPTION:Night sky themed scavenger hunt
URL:https://www.undercanvas.com/event/grand-canyon-night-sky-scavenger-hunt/2026-09-29/
ATTACH;FMTTYPE=image/jpeg:/wp-content/uploads/2023/11/UCMilkyway-3.jpg
END:VEVENT
BEGIN:VEVENT
DTSTART;TZID=America/Denver:20261006T200000
DTEND;TZID=America/Denver:20261006T220000
DTSTAMP:20260419T183739
CREATED:20260323T220811Z
LAST-MODIFIED:20260323T220811Z
UID:10009849-1791316800-1791324000@www.undercanvas.com
SUMMARY:Grand Canyon: Night Sky Scavenger Hunt
DESCRIPTION:Night sky themed scavenger hunt
URL:https://www.undercanvas.com/event/grand-canyon-night-sky-scavenger-hunt/2026-10-06/
ATTACH;FMTTYPE=image/jpeg:/wp-content/uploads/2023/11/UCMilkyway-3.jpg
END:VEVENT
BEGIN:VEVENT
DTSTART;TZID=America/Denver:20261013T200000
DTEND;TZID=America/Denver:20261013T220000
DTSTAMP:20260419T183739
CREATED:20260323T220811Z
LAST-MODIFIED:20260323T220811Z
UID:10009850-1791921600-1791928800@www.undercanvas.com
SUMMARY:Grand Canyon: Night Sky Scavenger Hunt
DESCRIPTION:Night sky themed scavenger hunt
URL:https://www.undercanvas.com/event/grand-canyon-night-sky-scavenger-hunt/2026-10-13/
ATTACH;FMTTYPE=image/jpeg:/wp-content/uploads/2023/11/UCMilkyway-3.jpg
END:VEVENT
BEGIN:VEVENT
DTSTART;TZID=America/Denver:20261020T200000
DTEND;TZID=America/Denver:20261020T220000
DTSTAMP:20260419T183739
CREATED:20260323T220811Z
LAST-MODIFIED:20260323T220811Z
UID:10009851-1792526400-1792533600@www.undercanvas.com
SUMMARY:Grand Canyon: Night Sky Scavenger Hunt
DESCRIPTION:Night sky themed scavenger hunt
URL:https://www.undercanvas.com/event/grand-canyon-night-sky-scavenger-hunt/2026-10-20/
ATTACH;FMTTYPE=image/jpeg:/wp-content/uploads/2023/11/UCMilkyway-3.jpg
END:VEVENT
END:VCALENDAR